BEGIN:VCALENDAR
VERSION:2.0
PRODID:-//Meghan Clarisse Cave - ECPv6.15.20//NONSGML v1.0//EN
CALSCALE:GREGORIAN
METHOD:PUBLISH
X-WR-CALNAME:Meghan Clarisse Cave
X-ORIGINAL-URL:https://www.megcmusic.com
X-WR-CALDESC:Events for Meghan Clarisse Cave
REFRESH-INTERVAL;VALUE=DURATION:PT1H
X-Robots-Tag:noindex
X-PUBLISHED-TTL:PT1H
BEGIN:VTIMEZONE
TZID:America/Denver
BEGIN:DAYLIGHT
TZOFFSETFROM:-0700
TZOFFSETTO:-0600
TZNAME:MDT
DTSTART:20250309T090000
END:DAYLIGHT
BEGIN:STANDARD
TZOFFSETFROM:-0600
TZOFFSETTO:-0700
TZNAME:MST
DTSTART:20251102T080000
END:STANDARD
BEGIN:DAYLIGHT
TZOFFSETFROM:-0700
TZOFFSETTO:-0600
TZNAME:MDT
DTSTART:20260308T090000
END:DAYLIGHT
BEGIN:STANDARD
TZOFFSETFROM:-0600
TZOFFSETTO:-0700
TZNAME:MST
DTSTART:20261101T080000
END:STANDARD
BEGIN:DAYLIGHT
TZOFFSETFROM:-0700
TZOFFSETTO:-0600
TZNAME:MDT
DTSTART:20270314T090000
END:DAYLIGHT
BEGIN:STANDARD
TZOFFSETFROM:-0600
TZOFFSETTO:-0700
TZNAME:MST
DTSTART:20271107T080000
END:STANDARD
END:VTIMEZONE
BEGIN:VEVENT
DTSTART;TZID=America/Denver:20260501T180000
DTEND;TZID=America/Denver:20260501T210000
DTSTAMP:20260423T121025
CREATED:20251223T162436Z
LAST-MODIFIED:20251223T162642Z
UID:5108-1777658400-1777669200@www.megcmusic.com
SUMMARY:Meghan Clarisse Duo
DESCRIPTION:Ute Lodge Bar & Grill \n204 W Midland Ave\, Woodland Park\, CO 80863
URL:https://www.megcmusic.com/event/meghan-clarisse-duo-3/
ATTACH;FMTTYPE=image/png:https://www.megcmusic.com/wp-content/uploads/2025/12/images.png
END:VEVENT
BEGIN:VEVENT
DTSTART;TZID=America/Denver:20260508T180000
DTEND;TZID=America/Denver:20260508T210000
DTSTAMP:20260423T121025
CREATED:20260304T041612Z
LAST-MODIFIED:20260304T041612Z
UID:5367-1778263200-1778274000@www.megcmusic.com
SUMMARY:Foothills Golf Course
DESCRIPTION:Meghan Clarisse Duo
URL:https://www.megcmusic.com/event/foothills-golf-course/
ATTACH;FMTTYPE=image/jpeg:https://www.megcmusic.com/wp-content/uploads/2024/06/website-scaled.jpg
END:VEVENT
BEGIN:VEVENT
DTSTART;TZID=America/Denver:20260626T180000
DTEND;TZID=America/Denver:20260626T210000
DTSTAMP:20260423T121025
CREATED:20260304T041815Z
LAST-MODIFIED:20260304T041815Z
UID:5369-1782496800-1782507600@www.megcmusic.com
SUMMARY:Foothills Golf Course
DESCRIPTION:
URL:https://www.megcmusic.com/event/foothills-golf-course-2/
ATTACH;FMTTYPE=image/jpeg:https://www.megcmusic.com/wp-content/uploads/2026/01/IMG_7899-Copy.jpg
END:VEVENT
BEGIN:VEVENT
DTSTART;TZID=America/Denver:20260628T140000
DTEND;TZID=America/Denver:20260628T170000
DTSTAMP:20260423T121025
CREATED:20260317T000801Z
LAST-MODIFIED:20260317T000801Z
UID:5414-1782655200-1782666000@www.megcmusic.com
SUMMARY:Duo at Rock Rest
DESCRIPTION:On the patio! \n16005 Mt Vernon Rd\, Golden\, CO 80401
URL:https://www.megcmusic.com/event/duo-at-rock-rest-2/
ATTACH;FMTTYPE=image/jpeg:https://www.megcmusic.com/wp-content/uploads/2026/03/images.jpg
END:VEVENT
BEGIN:VEVENT
DTSTART;TZID=America/Denver:20260718T140000
DTEND;TZID=America/Denver:20260718T170000
DTSTAMP:20260423T121025
CREATED:20260317T001005Z
LAST-MODIFIED:20260317T001539Z
UID:5416-1784383200-1784394000@www.megcmusic.com
SUMMARY:Duo at Rock Rest with Mark Gabert
DESCRIPTION:On the patio! \n16005 Mt Vernon Rd\, Golden\, CO 80401
URL:https://www.megcmusic.com/event/duo-at-rock-rest-3/
ATTACH;FMTTYPE=image/jpeg:https://www.megcmusic.com/wp-content/uploads/2026/03/images.jpg
END:VEVENT
END:VCALENDAR