BEGIN:VCALENDAR
VERSION:2.0
PRODID:-//Meghan Clarisse Cave - ECPv6.15.20//NONSGML v1.0//EN
CALSCALE:GREGORIAN
METHOD:PUBLISH
X-WR-CALNAME:Meghan Clarisse Cave
X-ORIGINAL-URL:https://www.megcmusic.com
X-WR-CALDESC:Events for Meghan Clarisse Cave
REFRESH-INTERVAL;VALUE=DURATION:PT1H
X-Robots-Tag:noindex
X-PUBLISHED-TTL:PT1H
BEGIN:VTIMEZONE
TZID:America/Denver
BEGIN:DAYLIGHT
TZOFFSETFROM:-0700
TZOFFSETTO:-0600
TZNAME:MDT
DTSTART:20230312T090000
END:DAYLIGHT
BEGIN:STANDARD
TZOFFSETFROM:-0600
TZOFFSETTO:-0700
TZNAME:MST
DTSTART:20231105T080000
END:STANDARD
BEGIN:DAYLIGHT
TZOFFSETFROM:-0700
TZOFFSETTO:-0600
TZNAME:MDT
DTSTART:20240310T090000
END:DAYLIGHT
BEGIN:STANDARD
TZOFFSETFROM:-0600
TZOFFSETTO:-0700
TZNAME:MST
DTSTART:20241103T080000
END:STANDARD
BEGIN:DAYLIGHT
TZOFFSETFROM:-0700
TZOFFSETTO:-0600
TZNAME:MDT
DTSTART:20250309T090000
END:DAYLIGHT
BEGIN:STANDARD
TZOFFSETFROM:-0600
TZOFFSETTO:-0700
TZNAME:MST
DTSTART:20251102T080000
END:STANDARD
BEGIN:DAYLIGHT
TZOFFSETFROM:-0700
TZOFFSETTO:-0600
TZNAME:MDT
DTSTART:20260308T090000
END:DAYLIGHT
BEGIN:STANDARD
TZOFFSETFROM:-0600
TZOFFSETTO:-0700
TZNAME:MST
DTSTART:20261101T080000
END:STANDARD
END:VTIMEZONE
BEGIN:VEVENT
DTSTART;TZID=America/Denver:20250422T180000
DTEND;TZID=America/Denver:20250422T200000
DTSTAMP:20260423T221327
CREATED:20250219T161253Z
LAST-MODIFIED:20250219T161253Z
UID:4004-1745344800-1745352000@www.megcmusic.com
SUMMARY:Volunteer Event
DESCRIPTION:Musicians on Call \nChildren’s Hospital
URL:https://www.megcmusic.com/event/volunteer-event-4/
ATTACH;FMTTYPE=image/jpeg:https://www.megcmusic.com/wp-content/uploads/2024/04/download.jpg
END:VEVENT
BEGIN:VEVENT
DTSTART;TZID=America/Denver:20250419T180000
DTEND;TZID=America/Denver:20250419T200000
DTSTAMP:20260423T221327
CREATED:20250216T165513Z
LAST-MODIFIED:20250216T165513Z
UID:3993-1745085600-1745092800@www.megcmusic.com
SUMMARY:Meghan & Mark
DESCRIPTION:Legacy Ridge Golf Course \n10801 Legacy Ridge Pkwy \nWestminster\, CO 80031
URL:https://www.megcmusic.com/event/meghan-mark/
ATTACH;FMTTYPE=image/jpeg:https://www.megcmusic.com/wp-content/uploads/2024/06/website-scaled.jpg
END:VEVENT
BEGIN:VEVENT
DTSTART;TZID=America/Denver:20250408T180000
DTEND;TZID=America/Denver:20250408T200000
DTSTAMP:20260423T221327
CREATED:20250219T161055Z
LAST-MODIFIED:20250219T161055Z
UID:4002-1744135200-1744142400@www.megcmusic.com
SUMMARY:Volunteer Event
DESCRIPTION:Musicians On Call at Children’s Hospital
URL:https://www.megcmusic.com/event/volunteer-event-3/
ATTACH;FMTTYPE=image/jpeg:https://www.megcmusic.com/wp-content/uploads/2024/04/download.jpg
END:VEVENT
BEGIN:VEVENT
DTSTART;TZID=America/Denver:20250407T170000
DTEND;TZID=America/Denver:20250407T190000
DTSTAMP:20260423T221327
CREATED:20250105T201401Z
LAST-MODIFIED:20250105T201401Z
UID:3870-1744045200-1744052400@www.megcmusic.com
SUMMARY:Solo Acoustic
DESCRIPTION:Come listen to coffee shop tunes (covers and originals) and the coolest and coziest coffee shop in Colorado! \nCafe Ole \n3225 S Wadsworth Blvd L\, Lakewood\, CO 80227
URL:https://www.megcmusic.com/event/solo-acoustic/
ATTACH;FMTTYPE=image/jpeg:https://www.megcmusic.com/wp-content/uploads/2024/06/website-scaled.jpg
END:VEVENT
BEGIN:VEVENT
DTSTART;TZID=America/Denver:20250401T160000
DTEND;TZID=America/Denver:20250401T170000
DTSTAMP:20260423T221327
CREATED:20250308T181316Z
LAST-MODIFIED:20250308T181316Z
UID:4056-1743523200-1743526800@www.megcmusic.com
SUMMARY:Live Music Yoga
DESCRIPTION:Hot Power Fusion Class with Loretta\, Music by Meghan \nCore Power Yoga \nBelmar location \n7349 W Alaska Dr\, Lakewood\, CO 80226
URL:https://www.megcmusic.com/event/live-music-yoga-20/
ATTACH;FMTTYPE=image/jpeg:https://www.megcmusic.com/wp-content/uploads/2023/02/IMG_0601-rotated.jpg
END:VEVENT
BEGIN:VEVENT
DTSTART;TZID=America/Denver:20250328T190000
DTEND;TZID=America/Denver:20250328T220000
DTSTAMP:20260423T221327
CREATED:20241210T232134Z
LAST-MODIFIED:20241210T232134Z
UID:3825-1743188400-1743199200@www.megcmusic.com
SUMMARY:Private Event
DESCRIPTION:
URL:https://www.megcmusic.com/event/private-event-4/
END:VEVENT
BEGIN:VEVENT
DTSTART;TZID=America/Denver:20250325T180000
DTEND;TZID=America/Denver:20250325T200000
DTSTAMP:20260423T221327
CREATED:20250219T160623Z
LAST-MODIFIED:20250219T160751Z
UID:3997-1742925600-1742932800@www.megcmusic.com
SUMMARY:Volunteer Event
DESCRIPTION:Musicians on Call \nChildrens Hospital Colorado
URL:https://www.megcmusic.com/event/volunteering-with-musicians-on-call-4/
ATTACH;FMTTYPE=image/jpeg:https://www.megcmusic.com/wp-content/uploads/2024/04/download.jpg
END:VEVENT
BEGIN:VEVENT
DTSTART;TZID=America/Denver:20250318T160000
DTEND;TZID=America/Denver:20250318T173000
DTSTAMP:20260423T221327
CREATED:20250219T185227Z
LAST-MODIFIED:20250310T024122Z
UID:4009-1742313600-1742319000@www.megcmusic.com
SUMMARY:Live Music Yoga
DESCRIPTION:Allison teaches Hot Power Fusion and Meghan provides music \n2825 W Belleview Ave. Littleton\, CO 80123
URL:https://www.megcmusic.com/event/live-music-yoga-19/
ATTACH;FMTTYPE=image/png:https://www.megcmusic.com/wp-content/uploads/2023/02/unnamed.png
END:VEVENT
BEGIN:VEVENT
DTSTART;TZID=America/Denver:20250313T190000
DTEND;TZID=America/Denver:20250313T220000
DTSTAMP:20260423T221327
CREATED:20241202T183435Z
LAST-MODIFIED:20250121T155742Z
UID:3803-1741892400-1741903200@www.megcmusic.com
SUMMARY:Meghan & Her Cavemen at Fraco's
DESCRIPTION:Come see us at Colorado’s newest country bar and best place to dance for a special St Patrick’s Day themed event! \n5302 S Federal Cir # A\, Littleton\, CO 80123
URL:https://www.megcmusic.com/event/meghan-her-cavemen-at-fracos-6/
ATTACH;FMTTYPE=image/jpeg:https://www.megcmusic.com/wp-content/uploads/2024/10/464245870_1261881428459462_8839439393050421254_n.jpg
END:VEVENT
BEGIN:VEVENT
DTSTART;TZID=America/Denver:20250309T123000
DTEND;TZID=America/Denver:20250309T153000
DTSTAMP:20260423T221327
CREATED:20250307T002124Z
LAST-MODIFIED:20250307T002146Z
UID:4052-1741523400-1741534200@www.megcmusic.com
SUMMARY:Meghan & Todd Duo
DESCRIPTION:Silver Vines Winery is having a Girl Scout Cookie Event with live music\, what more could you want?? \n7509 Grandview Ave\, Arvada\, CO 80002
URL:https://www.megcmusic.com/event/meghan-todd-duo-4/
ATTACH;FMTTYPE=image/jpeg:https://www.megcmusic.com/wp-content/uploads/2025/02/IMG_6078.jpg
END:VEVENT
BEGIN:VEVENT
DTSTART;TZID=America/Denver:20250303T170000
DTEND;TZID=America/Denver:20250303T190000
DTSTAMP:20260423T221327
CREATED:20241202T184450Z
LAST-MODIFIED:20241202T184450Z
UID:3812-1741021200-1741028400@www.megcmusic.com
SUMMARY:Meghan Solo Acoustic
DESCRIPTION:Join me at Cafe Ole for a mellow vibe of solo acoustic covers and originals \n3225 S Wadsworth Blvd L\, Lakewood\, CO 80227
URL:https://www.megcmusic.com/event/meghan-solo-acoustic-3/
ATTACH;FMTTYPE=image/jpeg:https://www.megcmusic.com/wp-content/uploads/2022/04/MeghanHorse_162-3.jpg
END:VEVENT
BEGIN:VEVENT
DTSTART;TZID=America/Denver:20250225T180000
DTEND;TZID=America/Denver:20250225T200000
DTSTAMP:20260423T221327
CREATED:20250122T025813Z
LAST-MODIFIED:20250122T025813Z
UID:3956-1740506400-1740513600@www.megcmusic.com
SUMMARY:Volunteer Event
DESCRIPTION:Musicians On Call at Childrens Hospital Colorado
URL:https://www.megcmusic.com/event/volunteer-event/
ATTACH;FMTTYPE=image/jpeg:https://www.megcmusic.com/wp-content/uploads/2024/04/download.jpg
END:VEVENT
BEGIN:VEVENT
DTSTART;TZID=America/Denver:20250223T170000
DTEND;TZID=America/Denver:20250223T180000
DTSTAMP:20260423T221327
CREATED:20241202T183830Z
LAST-MODIFIED:20250117T010020Z
UID:3805-1740330000-1740333600@www.megcmusic.com
SUMMARY:Uncovered
DESCRIPTION:Come see the all female rock and roll cover band\, Uncovered\,\, Uncovering your favorite covers that you love but forgot about at Green Mountain Beer Company \n2585 S Lewis Way #110\, Lakewood\, CO 80227
URL:https://www.megcmusic.com/event/meghan-with-uncovered/
ATTACH;FMTTYPE=image/jpeg:https://www.megcmusic.com/wp-content/uploads/2024/12/466069868_10109101788415043_7379990292390884209_n.jpg
END:VEVENT
BEGIN:VEVENT
DTSTART;TZID=America/Denver:20250221T170000
DTEND;TZID=America/Denver:20250221T200000
DTSTAMP:20260423T221327
CREATED:20250210T201243Z
LAST-MODIFIED:20250210T201243Z
UID:3982-1740157200-1740168000@www.megcmusic.com
SUMMARY:Private Party
DESCRIPTION:5pm-8pm
URL:https://www.megcmusic.com/event/private-party-3/
ATTACH;FMTTYPE=image/jpeg:https://www.megcmusic.com/wp-content/uploads/2024/04/cropped-moab-1-scaled-1.jpg
END:VEVENT
BEGIN:VEVENT
DTSTART;TZID=America/Denver:20250218T180000
DTEND;TZID=America/Denver:20250218T200000
DTSTAMP:20260423T221327
CREATED:20250107T220238Z
LAST-MODIFIED:20250107T220238Z
UID:3886-1739901600-1739908800@www.megcmusic.com
SUMMARY:Volunteering with Musicians On Call
DESCRIPTION:Home \n \nChildrens Colorado
URL:https://www.megcmusic.com/event/volunteering-with-musicians-on-call-3/
ATTACH;FMTTYPE=image/jpeg:https://www.megcmusic.com/wp-content/uploads/2024/04/download.jpg
END:VEVENT
BEGIN:VEVENT
DTSTART;TZID=America/Denver:20250213T190000
DTEND;TZID=America/Denver:20250213T220000
DTSTAMP:20260423T221327
CREATED:20241202T183233Z
LAST-MODIFIED:20241202T183233Z
UID:3801-1739473200-1739484000@www.megcmusic.com
SUMMARY:Meghan & Her Cavemen at Fraco's
DESCRIPTION:Come see us at Colorado’s newest country bar and best place to dance for a special Valentine’s show and event! \n5302 S Federal Cir # A\, Littleton\, CO 80123
URL:https://www.megcmusic.com/event/meghan-her-cavemen-at-fracos-5/
ATTACH;FMTTYPE=image/jpeg:https://www.megcmusic.com/wp-content/uploads/2024/10/464245870_1261881428459462_8839439393050421254_n.jpg
END:VEVENT
BEGIN:VEVENT
DTSTART;TZID=America/Denver:20250203T170000
DTEND;TZID=America/Denver:20250203T190000
DTSTAMP:20260423T221327
CREATED:20241202T184241Z
LAST-MODIFIED:20241202T184241Z
UID:3810-1738602000-1738609200@www.megcmusic.com
SUMMARY:Meghan Solo Acoustic
DESCRIPTION:Join me at Cafe Ole for a mellow vibe of solo acoustic covers and originals \n3225 S Wadsworth Blvd L\, Lakewood\, CO 80227
URL:https://www.megcmusic.com/event/meghan-solo-acoustic-2/
ATTACH;FMTTYPE=image/jpeg:https://www.megcmusic.com/wp-content/uploads/2024/04/moab-1-scaled.jpg
END:VEVENT
BEGIN:VEVENT
DTSTART;TZID=America/Denver:20250130T190000
DTEND;TZID=America/Denver:20250130T220000
DTSTAMP:20260423T221327
CREATED:20241206T212131Z
LAST-MODIFIED:20241206T212131Z
UID:3821-1738263600-1738274400@www.megcmusic.com
SUMMARY:Meghan Clarisse & Todd Clayton
DESCRIPTION:Details TBA
URL:https://www.megcmusic.com/event/meghan-clarisse-todd-clayton/
END:VEVENT
BEGIN:VEVENT
DTSTART;TZID=America/Denver:20250121T180000
DTEND;TZID=America/Denver:20250121T200000
DTSTAMP:20260423T221327
CREATED:20250107T220033Z
LAST-MODIFIED:20250107T220033Z
UID:3884-1737482400-1737489600@www.megcmusic.com
SUMMARY:Volunteering with Musicians On Call
DESCRIPTION:Childrens Hospital Colorado \nHome
URL:https://www.megcmusic.com/event/volunteering-with-musicians-on-call-2/
ATTACH;FMTTYPE=image/jpeg:https://www.megcmusic.com/wp-content/uploads/2024/04/download.jpg
END:VEVENT
BEGIN:VEVENT
DTSTART;TZID=America/Denver:20250120T160000
DTEND;TZID=America/Denver:20250120T170000
DTSTAMP:20260423T221327
CREATED:20250108T200212Z
LAST-MODIFIED:20250108T200212Z
UID:3888-1737388800-1737392400@www.megcmusic.com
SUMMARY:Live Music Yoga
DESCRIPTION:Loretta teaches hot power fusion at the Littleton Core Power location with Stephen Marshall on drums and Meghan on guitar and harmonium
URL:https://www.megcmusic.com/event/live-music-yoga-18/
ATTACH;FMTTYPE=image/jpeg:https://www.megcmusic.com/wp-content/uploads/2023/02/IMG_0601-rotated.jpg
END:VEVENT
BEGIN:VEVENT
DTSTART;TZID=America/Denver:20250114T180000
DTEND;TZID=America/Denver:20250114T200000
DTSTAMP:20260423T221327
CREATED:20250107T215731Z
LAST-MODIFIED:20250107T215731Z
UID:3882-1736877600-1736884800@www.megcmusic.com
SUMMARY:Volunteering with Musicians On Call
DESCRIPTION:Childrens Hospital Colorado
URL:https://www.megcmusic.com/event/volunteering-with-musicians-on-call/
ATTACH;FMTTYPE=image/jpeg:https://www.megcmusic.com/wp-content/uploads/2024/04/download.jpg
END:VEVENT
BEGIN:VEVENT
DTSTART;TZID=America/Denver:20250109T190000
DTEND;TZID=America/Denver:20250109T220000
DTSTAMP:20260423T221327
CREATED:20241202T182945Z
LAST-MODIFIED:20250109T181946Z
UID:3799-1736449200-1736460000@www.megcmusic.com
SUMMARY:CANCELLED Meghan & Her Cavemen at Fraco's
DESCRIPTION:Come see us at Colorado’s newest country bar and best place to dance! \n5302 S Federal Cir # A\, Littleton\, CO 80123
URL:https://www.megcmusic.com/event/meghan-her-cavemen-at-fracos-4/
ATTACH;FMTTYPE=image/jpeg:https://www.megcmusic.com/wp-content/uploads/2024/10/464245870_1261881428459462_8839439393050421254_n.jpg
END:VEVENT
BEGIN:VEVENT
DTSTART;TZID=America/Denver:20250106T170000
DTEND;TZID=America/Denver:20250106T190000
DTSTAMP:20260423T221327
CREATED:20241202T184107Z
LAST-MODIFIED:20241202T184107Z
UID:3808-1736182800-1736190000@www.megcmusic.com
SUMMARY:Meghan Solo Acoustic
DESCRIPTION:Join me at Cafe Ole for a mellow vibe of solo acoustic covers and originals \n3225 S Wadsworth Blvd L\, Lakewood\, CO 80227
URL:https://www.megcmusic.com/event/meghan-solo-acoustic/
ATTACH;FMTTYPE=image/jpeg:https://www.megcmusic.com/wp-content/uploads/2024/06/cropped-cropped-website-2-scaled-1.jpg
END:VEVENT
BEGIN:VEVENT
DTSTART;TZID=America/Denver:20241221T180000
DTEND;TZID=America/Denver:20241221T200000
DTSTAMP:20260423T221327
CREATED:20241217T172115Z
LAST-MODIFIED:20241217T172115Z
UID:3836-1734804000-1734811200@www.megcmusic.com
SUMMARY:Jack\, Meghan & Dwight Holiday Song Swap
DESCRIPTION:Join us for holiday songs and fun at Brewery Rickoli \n4335 Wadsworth Blvd\, Wheat Ridge\, CO 80033
URL:https://www.megcmusic.com/event/jack-meghan-dwight-holiday-song-swap/
ATTACH;FMTTYPE=image/jpeg:https://www.megcmusic.com/wp-content/uploads/2023/06/empty-pint-955413c1ab8908d6998e48fdb4ab2458a28f20aba7287e7dcc728f4f67735533.jpg
END:VEVENT
BEGIN:VEVENT
DTSTART;TZID=America/Denver:20241217T173000
DTEND;TZID=America/Denver:20241217T193000
DTSTAMP:20260423T221327
CREATED:20240710T004402Z
LAST-MODIFIED:20240710T004402Z
UID:3421-1734456600-1734463800@www.megcmusic.com
SUMMARY:Volunteer Shift for Musicians On Call (Private Event)
DESCRIPTION:Learn more here:  https://www.musiciansoncall.org/
URL:https://www.megcmusic.com/event/volunteer-shift-for-musicians-on-call-private-event-11/
ATTACH;FMTTYPE=image/jpeg:https://www.megcmusic.com/wp-content/uploads/2024/04/download.jpg
END:VEVENT
BEGIN:VEVENT
DTSTART;TZID=America/Denver:20241214T080000
DTEND;TZID=America/Denver:20241214T170000
DTSTAMP:20260423T221327
CREATED:20241022T164325Z
LAST-MODIFIED:20241124T004232Z
UID:3647-1734163200-1734195600@www.megcmusic.com
SUMMARY:Country Christmas with Larry Zanier and Todd Clayton
DESCRIPTION:
URL:https://www.megcmusic.com/event/country-christmas-with-larry-zanier/
ATTACH;FMTTYPE=image/png:https://www.megcmusic.com/wp-content/uploads/2024/10/thumbnail.png
END:VEVENT
BEGIN:VEVENT
DTSTART;TZID=America/Denver:20241212T190000
DTEND;TZID=America/Denver:20241212T220000
DTSTAMP:20260423T221327
CREATED:20241023T214638Z
LAST-MODIFIED:20241023T214638Z
UID:3653-1734030000-1734040800@www.megcmusic.com
SUMMARY:Meghan & Her Cavemen at Fraco's
DESCRIPTION:5302 S Federal Littleton
URL:https://www.megcmusic.com/event/meghan-her-cavemen-at-fracos-3/
ATTACH;FMTTYPE=image/jpeg:https://www.megcmusic.com/wp-content/uploads/2024/10/464245870_1261881428459462_8839439393050421254_n.jpg
END:VEVENT
BEGIN:VEVENT
DTSTART;TZID=America/Denver:20241210T080000
DTEND;TZID=America/Denver:20241210T170000
DTSTAMP:20260423T221327
CREATED:20240410T142815Z
LAST-MODIFIED:20240410T142815Z
UID:3223-1733817600-1733850000@www.megcmusic.com
SUMMARY:Volunteer Shift for Musicians On Call (Private Event)
DESCRIPTION:Learn more here:  https://www.musiciansoncall.org/
URL:https://www.megcmusic.com/event/volunteer-shift-for-musicians-on-call-private-event-8/
ATTACH;FMTTYPE=image/jpeg:https://www.megcmusic.com/wp-content/uploads/2024/04/download.jpg
END:VEVENT
BEGIN:VEVENT
DTSTART;TZID=America/Denver:20241202T170000
DTEND;TZID=America/Denver:20241202T190000
DTSTAMP:20260423T221327
CREATED:20240604T031402Z
LAST-MODIFIED:20240702T153516Z
UID:3315-1733158800-1733166000@www.megcmusic.com
SUMMARY:Solo Acoustic at Cafe Ole
DESCRIPTION:Join me the first Monday of every month at Cafe Ole for covers and originals \n3225 S Wadsworth Blvd L\, Lakewood\, CO 80227
URL:https://www.megcmusic.com/event/solo-acoustic-at-cafe-ole-6/
ATTACH;FMTTYPE=image/jpeg:https://www.megcmusic.com/wp-content/uploads/2024/06/IMG_0969.jpg
END:VEVENT
BEGIN:VEVENT
DTSTART;TZID=America/Denver:20241123T090000
DTEND;TZID=America/Denver:20241123T100000
DTSTAMP:20260423T221327
CREATED:20241122T012008Z
LAST-MODIFIED:20241122T012008Z
UID:3709-1732352400-1732356000@www.megcmusic.com
SUMMARY:Live Music Yoga
DESCRIPTION:Loretta teaches a 9am Hot Power Fusion at the Belmar Core Power \nMusic by Meghan Clarisse and Stephen Marshall
URL:https://www.megcmusic.com/event/live-music-yoga-16/
ATTACH;FMTTYPE=image/jpeg:https://www.megcmusic.com/wp-content/uploads/2024/11/468050630_1283780419602896_4147024142408592033_n.jpg
END:VEVENT
END:VCALENDAR