BEGIN:VCALENDAR
VERSION:2.0
PRODID:-//Meghan Clarisse Cave - ECPv6.15.20//NONSGML v1.0//EN
CALSCALE:GREGORIAN
METHOD:PUBLISH
X-ORIGINAL-URL:https://www.megcmusic.com
X-WR-CALDESC:Events for Meghan Clarisse Cave
REFRESH-INTERVAL;VALUE=DURATION:PT1H
X-Robots-Tag:noindex
X-PUBLISHED-TTL:PT1H
BEGIN:VTIMEZONE
TZID:America/Denver
BEGIN:DAYLIGHT
TZOFFSETFROM:-0700
TZOFFSETTO:-0600
TZNAME:MDT
DTSTART:20240310T090000
END:DAYLIGHT
BEGIN:STANDARD
TZOFFSETFROM:-0600
TZOFFSETTO:-0700
TZNAME:MST
DTSTART:20241103T080000
END:STANDARD
BEGIN:DAYLIGHT
TZOFFSETFROM:-0700
TZOFFSETTO:-0600
TZNAME:MDT
DTSTART:20250309T090000
END:DAYLIGHT
BEGIN:STANDARD
TZOFFSETFROM:-0600
TZOFFSETTO:-0700
TZNAME:MST
DTSTART:20251102T080000
END:STANDARD
BEGIN:DAYLIGHT
TZOFFSETFROM:-0700
TZOFFSETTO:-0600
TZNAME:MDT
DTSTART:20260308T090000
END:DAYLIGHT
BEGIN:STANDARD
TZOFFSETFROM:-0600
TZOFFSETTO:-0700
TZNAME:MST
DTSTART:20261101T080000
END:STANDARD
END:VTIMEZONE
BEGIN:VEVENT
DTSTART;TZID=America/Denver:20250906T120000
DTEND;TZID=America/Denver:20250906T180000
DTSTAMP:20260423T173435
CREATED:20250819T180651Z
LAST-MODIFIED:20250819T180651Z
UID:4596-1757160000-1757181600@www.megcmusic.com
SUMMARY:FALL FLING-A-MAJIG
DESCRIPTION:Is it a festival?\nIs it a park day?\nIs it a BYOB Party?\nThis FREE event is all of those things!\n\nIT IS FLING-A-MAJIG!  Sat\, SEPT 6th\n\nA collection of bands playing music at the community amphitheater\, welcoming the Colorado Fall\, and making for a fun day in the park.\n\nBYO-food\, beverage\, chair\, blanket\, etc and come catch some rays and rhythms.\n\nFeaturing:  Corvus County\, Lunar Pulse\, At The Watertower\, The Struggler Project\, Meghan Clarisse\, Trouble Bound.
URL:https://www.megcmusic.com/event/fall-fling-a-majig/
ATTACH;FMTTYPE=image/jpeg:https://www.megcmusic.com/wp-content/uploads/2025/08/image1.jpeg
END:VEVENT
BEGIN:VEVENT
DTSTART;VALUE=DATE:20250904
DTEND;VALUE=DATE:20250907
DTSTAMP:20260423T173435
CREATED:20250731T185459Z
LAST-MODIFIED:20250731T185459Z
UID:4503-1756944000-1757203199@www.megcmusic.com
SUMMARY:Big Barn Dance Festival
DESCRIPTION:Taos\, NM \nrepresenting Howling Dog Music Group
URL:https://www.megcmusic.com/event/big-barn-dance-festival/
END:VEVENT
BEGIN:VEVENT
DTSTART;TZID=America/Denver:20250831T180000
DTEND;TZID=America/Denver:20250831T200000
DTSTAMP:20260423T173435
CREATED:20250814T025412Z
LAST-MODIFIED:20250814T025412Z
UID:4552-1756663200-1756670400@www.megcmusic.com
SUMMARY:Private Event
DESCRIPTION:
URL:https://www.megcmusic.com/event/private-event-5/
ATTACH;FMTTYPE=image/jpeg:https://www.megcmusic.com/wp-content/uploads/2024/08/Copy-of-Copy-of-Copy-of-Copy-of-Copy-of-Copy-of-Copy-of-Copy-of-Copy-of-Copy-of-Copy-of-Copy-of-Copy-of-Meghan-Clarisse.jpg
END:VEVENT
BEGIN:VEVENT
DTSTART;TZID=America/Denver:20250831T140000
DTEND;TZID=America/Denver:20250831T170000
DTSTAMP:20260423T173435
CREATED:20250226T043317Z
LAST-MODIFIED:20250714T211617Z
UID:4034-1756648800-1756659600@www.megcmusic.com
SUMMARY:Songwriter Round
DESCRIPTION:Come join us on the patio at the famous Rock Rest in Golden for a Songwriter round with Meghan Clarisse\, Michelle Castillo and Ryan Chrys! \n16005 Mt Vernon Rd\, Golden\, CO 80401
URL:https://www.megcmusic.com/event/meghan-todd-duo-3/
ATTACH;FMTTYPE=image/jpeg:https://www.megcmusic.com/wp-content/uploads/2025/02/495500795_1416639409650329_3019526284221294569_n.jpg
END:VEVENT
BEGIN:VEVENT
DTSTART;TZID=America/Denver:20250815T160000
DTEND;TZID=America/Denver:20250815T160000
DTSTAMP:20260423T173435
CREATED:20240817T060851Z
LAST-MODIFIED:20250714T212141Z
UID:3526-1755273600-1755273600@www.megcmusic.com
SUMMARY:Private Event
DESCRIPTION:
URL:https://www.megcmusic.com/event/private-event-3/
ATTACH;FMTTYPE=image/jpeg:https://www.megcmusic.com/wp-content/uploads/2024/08/Copy-of-Copy-of-Copy-of-Copy-of-Copy-of-Copy-of-Copy-of-Copy-of-Copy-of-Copy-of-Copy-of-Copy-of-Copy-of-Meghan-Clarisse.jpg
END:VEVENT
BEGIN:VEVENT
DTSTART;TZID=America/Denver:20250810T140000
DTEND;TZID=America/Denver:20250810T170000
DTSTAMP:20260423T173435
CREATED:20250226T043132Z
LAST-MODIFIED:20250714T211957Z
UID:4032-1754834400-1754845200@www.megcmusic.com
SUMMARY:Meghan & Mark Duo
DESCRIPTION:Come join us on the patio at the famous Rock Rest in Golden \n16005 Mt Vernon Rd\, Golden\, CO 80401
URL:https://www.megcmusic.com/event/meghan-mark-duo-3/
ATTACH;FMTTYPE=image/png:https://www.megcmusic.com/wp-content/uploads/2025/02/Copy-of-Copy-of-Copy-of-Sage-Elegant-New-Blog-Post-Instagram-Post.png
END:VEVENT
BEGIN:VEVENT
DTSTART;TZID=America/Denver:20250809T080000
DTEND;TZID=America/Denver:20250809T170000
DTSTAMP:20260423T173435
CREATED:20250413T163144Z
LAST-MODIFIED:20250413T163144Z
UID:4105-1754726400-1754758800@www.megcmusic.com
SUMMARY:Private Event with Risers for Retts
DESCRIPTION:
URL:https://www.megcmusic.com/event/private-event-with-risers-for-retts/
ATTACH;FMTTYPE=image/jpeg:https://www.megcmusic.com/wp-content/uploads/2024/06/cropped-cropped-website-2-scaled-1.jpg
END:VEVENT
BEGIN:VEVENT
DTSTART;TZID=America/Denver:20250807T200000
DTEND;TZID=America/Denver:20250807T220000
DTSTAMP:20260423T173435
CREATED:20250731T190244Z
LAST-MODIFIED:20250731T190257Z
UID:4505-1754596800-1754604000@www.megcmusic.com
SUMMARY:Songwriter Round
DESCRIPTION:Wild Goose Saloon \n11160 S Pikes Peak Dr\, Parker\, CO 80138
URL:https://www.megcmusic.com/event/songwriter-round/
ATTACH;FMTTYPE=image/jpeg:https://www.megcmusic.com/wp-content/uploads/2025/07/F88649F8-AC60-41B9-BA2E-BAAA0FB43380.jpg
END:VEVENT
BEGIN:VEVENT
DTSTART;TZID=America/Denver:20250726T140000
DTEND;TZID=America/Denver:20250726T170000
DTSTAMP:20260423T173435
CREATED:20250226T042856Z
LAST-MODIFIED:20250714T185012Z
UID:4030-1753538400-1753549200@www.megcmusic.com
SUMMARY:Meghan & Todd Duo
DESCRIPTION:Come join us on the patio at the famous Rock Rest in Golden \n16005 Mt Vernon Rd\, Golden\, CO 80401
URL:https://www.megcmusic.com/event/meghan-todd-duo-2/
ATTACH;FMTTYPE=image/jpeg:https://www.megcmusic.com/wp-content/uploads/2025/02/509942910_1451128399534763_717328059885345374_n.jpg
END:VEVENT
BEGIN:VEVENT
DTSTART;TZID=America/Denver:20250725T190000
DTEND;TZID=America/Denver:20250725T210000
DTSTAMP:20260423T173435
CREATED:20250722T024809Z
LAST-MODIFIED:20250722T024809Z
UID:4450-1753470000-1753477200@www.megcmusic.com
SUMMARY:Meg & Mark Duo
DESCRIPTION:Come have some delicious ice cream and enjoy live music
URL:https://www.megcmusic.com/event/meg-mark-duo/
ATTACH;FMTTYPE=image/png:https://www.megcmusic.com/wp-content/uploads/2025/07/Black-and-White-Minimal-Hipster-Band-Quote-Social-Media-Graphic.png
END:VEVENT
BEGIN:VEVENT
DTSTART;TZID=America/Denver:20250720T180000
DTEND;TZID=America/Denver:20250720T210000
DTSTAMP:20260423T173435
CREATED:20250714T184345Z
LAST-MODIFIED:20250714T184345Z
UID:4335-1753034400-1753045200@www.megcmusic.com
SUMMARY:Little Man Ice Cream Series
DESCRIPTION:Come have some ice cream and enjoy a free outdoor concert.  Tony Ortega joins Meghan Clarisse.
URL:https://www.megcmusic.com/event/little-man-ice-cream-series/
ATTACH;FMTTYPE=image/png:https://www.megcmusic.com/wp-content/uploads/2025/07/meg-and-tony.png
END:VEVENT
BEGIN:VEVENT
DTSTART;TZID=America/Denver:20250719T140000
DTEND;TZID=America/Denver:20250719T170000
DTSTAMP:20260423T173435
CREATED:20250226T042712Z
LAST-MODIFIED:20250226T042712Z
UID:4028-1752933600-1752944400@www.megcmusic.com
SUMMARY:Meghan & Mark Duo
DESCRIPTION:Come join us on the patio at the famous Rock Rest in Golden \n16005 Mt Vernon Rd\, Golden\, CO 80401
URL:https://www.megcmusic.com/event/meghan-mark-duo-2/
ATTACH;FMTTYPE=image/jpeg:https://www.megcmusic.com/wp-content/uploads/2025/02/IMG_6075-e1758848680522.jpg
END:VEVENT
BEGIN:VEVENT
DTSTART;TZID=America/Denver:20250713T100000
DTEND;TZID=America/Denver:20250713T120000
DTSTAMP:20260423T173435
CREATED:20250219T213944Z
LAST-MODIFIED:20250530T040933Z
UID:4011-1752400800-1752408000@www.megcmusic.com
SUMMARY:Brunch Duo at Legacy Ridge
DESCRIPTION:Live music by Meghan and Mark and brunch on the patio \n10801 Legacy Ridge Pkwy\, Westminster\, CO 80031
URL:https://www.megcmusic.com/event/brunch-duo-at-legacy-ridge/
ATTACH;FMTTYPE=image/jpeg:https://www.megcmusic.com/wp-content/uploads/2025/02/IMG_6074.jpg
END:VEVENT
BEGIN:VEVENT
DTSTART;TZID=America/Denver:20250711T180000
DTEND;TZID=America/Denver:20250711T210000
DTSTAMP:20260423T173435
CREATED:20250510T190456Z
LAST-MODIFIED:20250708T195153Z
UID:4152-1752256800-1752267600@www.megcmusic.com
SUMMARY:Meghan & Mark
DESCRIPTION:Little Man Ice Cream Concert Series \nLittle Man Central Park (“Connie”)\, 10175 E. 29th Drive\, Denver\, CO 80238
URL:https://www.megcmusic.com/event/4152/
ATTACH;FMTTYPE=image/jpeg:https://www.megcmusic.com/wp-content/uploads/2025/02/IMG_6074.jpg
END:VEVENT
BEGIN:VEVENT
DTSTART;TZID=America/Denver:20250706T170000
DTEND;TZID=America/Denver:20250706T200000
DTSTAMP:20260423T173435
CREATED:20250610T155749Z
LAST-MODIFIED:20250610T155749Z
UID:4217-1751821200-1751832000@www.megcmusic.com
SUMMARY:Surprise duo show!
DESCRIPTION:Dave Shapiro joins Meghan near I25 and Colorado Blvd for a surprise performance
URL:https://www.megcmusic.com/event/surprise-duo-show/
ATTACH;FMTTYPE=image/heic:https://www.megcmusic.com/wp-content/uploads/2025/06/IMG_1087-2.heic
END:VEVENT
BEGIN:VEVENT
DTSTART;TZID=America/Denver:20250629T140000
DTEND;TZID=America/Denver:20250629T170000
DTSTAMP:20260423T173435
CREATED:20250226T042549Z
LAST-MODIFIED:20250226T042549Z
UID:4026-1751205600-1751216400@www.megcmusic.com
SUMMARY:Meghan & Todd Duo
DESCRIPTION:Come join us on the patio at the famous Rock Rest in Golden \n16005 Mt Vernon Rd\, Golden\, CO 80401
URL:https://www.megcmusic.com/event/meghan-todd-duo/
ATTACH;FMTTYPE=image/jpeg:https://www.megcmusic.com/wp-content/uploads/2025/02/IMG_6076.jpg
END:VEVENT
BEGIN:VEVENT
DTSTART;TZID=America/Denver:20250628T160000
DTEND;TZID=America/Denver:20250628T200000
DTSTAMP:20260423T173435
CREATED:20250117T003657Z
LAST-MODIFIED:20250117T003657Z
UID:3913-1751126400-1751140800@www.megcmusic.com
SUMMARY:Private Event With Uncovered
DESCRIPTION:
URL:https://www.megcmusic.com/event/private-event-with-uncovered/
ATTACH;FMTTYPE=image/jpeg:https://www.megcmusic.com/wp-content/uploads/2024/12/466069868_10109101788415043_7379990292390884209_n.jpg
END:VEVENT
BEGIN:VEVENT
DTSTART;TZID=America/Denver:20250628T090000
DTEND;TZID=America/Denver:20250628T100000
DTSTAMP:20260423T173435
CREATED:20250604T163816Z
LAST-MODIFIED:20250604T163906Z
UID:4203-1751101200-1751104800@www.megcmusic.com
SUMMARY:Live Music Yoga
DESCRIPTION:Loretta teaches a Hot Power Fusion class and Meghan provides the sounds with singing bowls\, harmonium\, guitar and vocals \nBelmar Core Power 7349 W Alaska Dr\, Lakewood\, CO 80226
URL:https://www.megcmusic.com/event/live-music-yoga-22/
ATTACH;FMTTYPE=image/jpeg:https://www.megcmusic.com/wp-content/uploads/2022/04/kirtan.jpg
END:VEVENT
BEGIN:VEVENT
DTSTART;TZID=America/Denver:20250627T163000
DTEND;TZID=America/Denver:20250627T180000
DTSTAMP:20260423T173435
CREATED:20250424T205918Z
LAST-MODIFIED:20250424T205918Z
UID:4118-1751041800-1751047200@www.megcmusic.com
SUMMARY:Donkey Derby Days
DESCRIPTION:https://www.cripplecreekdonkeys.com/donkeyderbydays
URL:https://www.megcmusic.com/event/donkey-derby-days/
ATTACH;FMTTYPE=image/jpeg:https://www.megcmusic.com/wp-content/uploads/2023/12/thumbnail.jpg
END:VEVENT
BEGIN:VEVENT
DTSTART;TZID=America/Denver:20250621T140000
DTEND;TZID=America/Denver:20250621T170000
DTSTAMP:20260423T173435
CREATED:20250508T223056Z
LAST-MODIFIED:20250508T223056Z
UID:4147-1750514400-1750525200@www.megcmusic.com
SUMMARY:Michelle Castillo's EP Release Show
DESCRIPTION:Meghan and Todd will play a 20 minute opening set at Michelle Castillo’s EP Release Show \nGooseTown Tavern \n514 9th St\, Golden\, CO 80401
URL:https://www.megcmusic.com/event/michelle-castillos-ep-release-show/
END:VEVENT
BEGIN:VEVENT
DTSTART;TZID=America/Denver:20250619T180000
DTEND;TZID=America/Denver:20250619T200000
DTSTAMP:20260423T173435
CREATED:20250120T164308Z
LAST-MODIFIED:20250120T164308Z
UID:3930-1750356000-1750363200@www.megcmusic.com
SUMMARY:Duo at Drive In Tasty Freeze Summer Concert Series
DESCRIPTION:Colorado Springs\, details TBA
URL:https://www.megcmusic.com/event/duo-at-drive-in-tasty-freeze-summer-concert-series/
ATTACH;FMTTYPE=image/jpeg:https://www.megcmusic.com/wp-content/uploads/2022/04/DSC03504small.jpg
END:VEVENT
BEGIN:VEVENT
DTSTART;TZID=America/Denver:20250618T180000
DTEND;TZID=America/Denver:20250618T200000
DTSTAMP:20260423T173435
CREATED:20250612T191803Z
LAST-MODIFIED:20250612T191803Z
UID:4224-1750269600-1750276800@www.megcmusic.com
SUMMARY:Solo - Private Event
DESCRIPTION:
URL:https://www.megcmusic.com/event/solo-private-event/
ATTACH;FMTTYPE=image/jpeg:https://www.megcmusic.com/wp-content/uploads/2024/06/cropped-website-2-scaled-3.jpg
END:VEVENT
BEGIN:VEVENT
DTSTART;TZID=America/Denver:20250615T140000
DTEND;TZID=America/Denver:20250615T170000
DTSTAMP:20260423T173435
CREATED:20250226T042407Z
LAST-MODIFIED:20250226T042407Z
UID:4019-1749996000-1750006800@www.megcmusic.com
SUMMARY:Meghan & Mark Duo
DESCRIPTION:Come join us on the patio at the famous Rock Rest in Golden \n16005 Mt Vernon Rd\, Golden\, CO 80401
URL:https://www.megcmusic.com/event/meghan-mark-duo/
ATTACH;FMTTYPE=image/jpeg:https://www.megcmusic.com/wp-content/uploads/2025/02/IMG_6074.jpg
END:VEVENT
BEGIN:VEVENT
DTSTART;TZID=America/Denver:20250610T180000
DTEND;TZID=America/Denver:20250610T200000
DTSTAMP:20260423T173435
CREATED:20250219T161427Z
LAST-MODIFIED:20250219T161427Z
UID:4006-1749578400-1749585600@www.megcmusic.com
SUMMARY:Volunteer Event
DESCRIPTION:Musicians On Call \nChildren’s Hospital
URL:https://www.megcmusic.com/event/volunteer-event-5/
ATTACH;FMTTYPE=image/jpeg:https://www.megcmusic.com/wp-content/uploads/2024/04/download.jpg
END:VEVENT
BEGIN:VEVENT
DTSTART;TZID=America/Denver:20250602T170000
DTEND;TZID=America/Denver:20250602T190000
DTSTAMP:20260423T173435
CREATED:20250106T181905Z
LAST-MODIFIED:20250106T181905Z
UID:3880-1748883600-1748890800@www.megcmusic.com
SUMMARY:Meghan Solo Acoustic
DESCRIPTION:Join me for a cozy and intimate evening of acoustic covers and originals
URL:https://www.megcmusic.com/event/meghan-solo-acoustic-4/
ATTACH;FMTTYPE=image/jpeg:https://www.megcmusic.com/wp-content/uploads/2024/06/website-2-scaled.jpg
END:VEVENT
BEGIN:VEVENT
DTSTART;TZID=America/Denver:20250520T180000
DTEND;TZID=America/Denver:20250520T200000
DTSTAMP:20260423T173435
CREATED:20250219T160921Z
LAST-MODIFIED:20250219T160921Z
UID:4000-1747764000-1747771200@www.megcmusic.com
SUMMARY:Volunteer Event
DESCRIPTION:Musicians on Call at Childrens Hospital
URL:https://www.megcmusic.com/event/volunteer-event-2/
ATTACH;FMTTYPE=image/jpeg:https://www.megcmusic.com/wp-content/uploads/2024/04/download.jpg
END:VEVENT
BEGIN:VEVENT
DTSTART;TZID=America/Denver:20250516T180000
DTEND;TZID=America/Denver:20250516T210000
DTSTAMP:20260423T173435
CREATED:20250404T043432Z
LAST-MODIFIED:20250404T043941Z
UID:4092-1747418400-1747429200@www.megcmusic.com
SUMMARY:With Uncovered
DESCRIPTION:Zymos Brewery \n5180 S Lowell Blvd\, Littleton\, CO 80123 \n6pm – 9pm
URL:https://www.megcmusic.com/event/with-uncovered/
ATTACH;FMTTYPE=image/jpeg:https://www.megcmusic.com/wp-content/uploads/2024/12/466069868_10109101788415043_7379990292390884209_n.jpg
END:VEVENT
BEGIN:VEVENT
DTSTART;TZID=America/Denver:20250505T170000
DTEND;TZID=America/Denver:20250505T190000
DTSTAMP:20260423T173435
CREATED:20250105T202059Z
LAST-MODIFIED:20250105T202059Z
UID:3876-1746464400-1746471600@www.megcmusic.com
SUMMARY:Solo Acoustic
DESCRIPTION:Coffee shop tunes 5pm – 7pm at the cutest coffee shop around \n3225 S Wadsworth Blvd L\, Lakewood\, CO 80227
URL:https://www.megcmusic.com/event/solo-acoustic-2/
ATTACH;FMTTYPE=image/jpeg:https://www.megcmusic.com/wp-content/uploads/2024/04/moab-1-scaled.jpg
END:VEVENT
BEGIN:VEVENT
DTSTART;TZID=America/Denver:20250504T170000
DTEND;TZID=America/Denver:20250504T210000
DTSTAMP:20260423T173435
CREATED:20250404T043237Z
LAST-MODIFIED:20250404T043237Z
UID:4089-1746378000-1746392400@www.megcmusic.com
SUMMARY:With Uncovered at Globe Hall
DESCRIPTION:Uncovered \nMedium Serious \nGreat Lumbering Beast \nLove Sweet Love \nGlobe Hall Doors @ 4; show @5
URL:https://www.megcmusic.com/event/with-uncovered-at-globe-hall/
ATTACH;FMTTYPE=image/jpeg:https://www.megcmusic.com/wp-content/uploads/2025/04/486253011_1257289279214434_5249627394865753028_n.jpg
END:VEVENT
BEGIN:VEVENT
DTSTART;TZID=America/Denver:20250425T190000
DTEND;TZID=America/Denver:20250425T210000
DTSTAMP:20260423T173435
CREATED:20250120T163944Z
LAST-MODIFIED:20250120T163944Z
UID:3928-1745607600-1745614800@www.megcmusic.com
SUMMARY:Duo at The Whistle Pig Brewery
DESCRIPTION:2117 Templeton Gap Rd\, Colorado Springs\, CO 80907
URL:https://www.megcmusic.com/event/duo-at-the-whistle-pig-brewery/
ATTACH;FMTTYPE=image/jpeg:https://www.megcmusic.com/wp-content/uploads/2023/02/meghan.jpg
END:VEVENT
END:VCALENDAR