BEGIN:VCALENDAR
VERSION:2.0
PRODID:-//Meghan Clarisse Cave - ECPv6.15.20//NONSGML v1.0//EN
CALSCALE:GREGORIAN
METHOD:PUBLISH
X-WR-CALNAME:Meghan Clarisse Cave
X-ORIGINAL-URL:https://www.megcmusic.com
X-WR-CALDESC:Events for Meghan Clarisse Cave
REFRESH-INTERVAL;VALUE=DURATION:PT1H
X-Robots-Tag:noindex
X-PUBLISHED-TTL:PT1H
BEGIN:VTIMEZONE
TZID:America/Denver
BEGIN:DAYLIGHT
TZOFFSETFROM:-0700
TZOFFSETTO:-0600
TZNAME:MDT
DTSTART:20250309T090000
END:DAYLIGHT
BEGIN:STANDARD
TZOFFSETFROM:-0600
TZOFFSETTO:-0700
TZNAME:MST
DTSTART:20251102T080000
END:STANDARD
BEGIN:DAYLIGHT
TZOFFSETFROM:-0700
TZOFFSETTO:-0600
TZNAME:MDT
DTSTART:20260308T090000
END:DAYLIGHT
BEGIN:STANDARD
TZOFFSETFROM:-0600
TZOFFSETTO:-0700
TZNAME:MST
DTSTART:20261101T080000
END:STANDARD
BEGIN:DAYLIGHT
TZOFFSETFROM:-0700
TZOFFSETTO:-0600
TZNAME:MDT
DTSTART:20270314T090000
END:DAYLIGHT
BEGIN:STANDARD
TZOFFSETFROM:-0600
TZOFFSETTO:-0700
TZNAME:MST
DTSTART:20271107T080000
END:STANDARD
END:VTIMEZONE
BEGIN:VEVENT
DTSTART;TZID=America/Denver:20260717T190000
DTEND;TZID=America/Denver:20260717T220000
DTSTAMP:20260423T120913
CREATED:20260420T032819Z
LAST-MODIFIED:20260420T032819Z
UID:5651-1784314800-1784325600@www.megcmusic.com
SUMMARY:Full Band
DESCRIPTION:Shifterz \n2490 W Hampden Ave\, Sheridan\, CO 80110
URL:https://www.megcmusic.com/event/full-band-2/
END:VEVENT
BEGIN:VEVENT
DTSTART;TZID=America/Denver:20260718T140000
DTEND;TZID=America/Denver:20260718T170000
DTSTAMP:20260423T120913
CREATED:20260317T001005Z
LAST-MODIFIED:20260317T001539Z
UID:5416-1784383200-1784394000@www.megcmusic.com
SUMMARY:Duo at Rock Rest with Mark Gabert
DESCRIPTION:On the patio! \n16005 Mt Vernon Rd\, Golden\, CO 80401
URL:https://www.megcmusic.com/event/duo-at-rock-rest-3/
ATTACH;FMTTYPE=image/jpeg:https://www.megcmusic.com/wp-content/uploads/2026/03/images.jpg
END:VEVENT
BEGIN:VEVENT
DTSTART;TZID=America/Denver:20260730T180000
DTEND;TZID=America/Denver:20260730T223000
DTSTAMP:20260423T120913
CREATED:20260402T142240Z
LAST-MODIFIED:20260403T162909Z
UID:5585-1785434400-1785450600@www.megcmusic.com
SUMMARY:Community event (non performance)
DESCRIPTION:An Intimate Songwriting Workshop with Amy Speace and an opportunity to record a demo. \n\n\n\nClick below to learn more \nAn Intimate Songwriting Workshop with Amy Speace and an opportunity to record a demo. \n\n\n\n  \n\n\n\n 
URL:https://www.megcmusic.com/event/community-event-non-performance/
END:VEVENT
BEGIN:VEVENT
DTSTART;TZID=America/Denver:20260730T193000
DTEND;TZID=America/Denver:20260730T203000
DTSTAMP:20260423T120913
CREATED:20260208T143537Z
LAST-MODIFIED:20260208T143537Z
UID:5293-1785439800-1785443400@www.megcmusic.com
SUMMARY:Full Band
DESCRIPTION:Details TBA
URL:https://www.megcmusic.com/event/full-band/
ATTACH;FMTTYPE=image/jpeg:https://www.megcmusic.com/wp-content/uploads/2026/01/IMG_7901.jpg
END:VEVENT
BEGIN:VEVENT
DTSTART;TZID=America/Denver:20261107T150000
DTEND;TZID=America/Denver:20261107T180000
DTSTAMP:20260423T120913
CREATED:20260208T144038Z
LAST-MODIFIED:20260208T144038Z
UID:5295-1794063600-1794074400@www.megcmusic.com
SUMMARY:Mountain West Country Fest
DESCRIPTION:Piccadilly’s in the The Antler’s Hotel \n4 S Cascade Ave\, Colorado Springs\, CO 80903
URL:https://www.megcmusic.com/event/mountain-west-country-fest/
ATTACH;FMTTYPE=image/png:https://www.megcmusic.com/wp-content/uploads/2026/01/image.png
END:VEVENT
END:VCALENDAR