BEGIN:VCALENDAR
VERSION:2.0
PRODID:-//Meghan Clarisse Cave - ECPv6.15.20//NONSGML v1.0//EN
CALSCALE:GREGORIAN
METHOD:PUBLISH
X-WR-CALNAME:Meghan Clarisse Cave
X-ORIGINAL-URL:https://www.megcmusic.com
X-WR-CALDESC:Events for Meghan Clarisse Cave
REFRESH-INTERVAL;VALUE=DURATION:PT1H
X-Robots-Tag:noindex
X-PUBLISHED-TTL:PT1H
BEGIN:VTIMEZONE
TZID:America/Denver
BEGIN:DAYLIGHT
TZOFFSETFROM:-0700
TZOFFSETTO:-0600
TZNAME:MDT
DTSTART:20210314T090000
END:DAYLIGHT
BEGIN:STANDARD
TZOFFSETFROM:-0600
TZOFFSETTO:-0700
TZNAME:MST
DTSTART:20211107T080000
END:STANDARD
BEGIN:DAYLIGHT
TZOFFSETFROM:-0700
TZOFFSETTO:-0600
TZNAME:MDT
DTSTART:20220313T090000
END:DAYLIGHT
BEGIN:STANDARD
TZOFFSETFROM:-0600
TZOFFSETTO:-0700
TZNAME:MST
DTSTART:20221106T080000
END:STANDARD
BEGIN:DAYLIGHT
TZOFFSETFROM:-0700
TZOFFSETTO:-0600
TZNAME:MDT
DTSTART:20230312T090000
END:DAYLIGHT
BEGIN:STANDARD
TZOFFSETFROM:-0600
TZOFFSETTO:-0700
TZNAME:MST
DTSTART:20231105T080000
END:STANDARD
END:VTIMEZONE
BEGIN:VEVENT
DTSTART;TZID=America/Denver:20220818T130000
DTEND;TZID=America/Denver:20220818T160000
DTSTAMP:20260424T215723
CREATED:20220804T024403Z
LAST-MODIFIED:20220804T024403Z
UID:1380-1660827600-1660838400@www.megcmusic.com
SUMMARY:Meg & The Old Man at Oskar Blues - CO Springs
DESCRIPTION:Tell all your Colorado Springs area friends!! \n118 N Tejon St\, Colorado Springs\, CO 80903
URL:https://www.megcmusic.com/event/meg-the-old-man-at-oskar-blues-co-springs/
ATTACH;FMTTYPE=image/jpeg:https://www.megcmusic.com/wp-content/uploads/2022/05/steve-1.jpg
END:VEVENT
BEGIN:VEVENT
DTSTART;TZID=America/Denver:20220816T100000
DTEND;TZID=America/Denver:20220816T110000
DTSTAMP:20260424T215723
CREATED:20220802T065156Z
LAST-MODIFIED:20220802T065156Z
UID:1354-1660644000-1660647600@www.megcmusic.com
SUMMARY:Live Music Yoga
DESCRIPTION:Becky teaches Hot Power Fusion and I’ll play guitar and harmonium and sing in Sanskrit! \n2825 We Belleview Ave\, Littlton
URL:https://www.megcmusic.com/event/live-music-yoga-6/
ATTACH;FMTTYPE=image/jpeg:https://www.megcmusic.com/wp-content/uploads/2022/04/kirtan.jpg
END:VEVENT
BEGIN:VEVENT
DTSTART;TZID=America/Denver:20220813T130000
DTEND;TZID=America/Denver:20220813T160000
DTSTAMP:20260424T215723
CREATED:20220809T210917Z
LAST-MODIFIED:20220809T210917Z
UID:1438-1660395600-1660406400@www.megcmusic.com
SUMMARY:Solo at La Dolce Vita Coffee Shop
DESCRIPTION:I’ll be playing an hour gig within Larry’s 7pm – 10pm set at La Dolce Vita Coffee in Arvada.  Come hang with us! \n5756 Olde Wadsworth Blvd\, Arvada\, CO 80002
URL:https://www.megcmusic.com/event/solo-at-la-dolce-vita-coffee-shop/
ATTACH;FMTTYPE=image/jpeg:https://www.megcmusic.com/wp-content/uploads/2022/04/MeghanGuitar_021small-1.jpg
END:VEVENT
BEGIN:VEVENT
DTSTART;TZID=America/Denver:20220813T080000
DTEND;TZID=America/Denver:20220813T110000
DTSTAMP:20260424T215723
CREATED:20220529T003855Z
LAST-MODIFIED:20220529T003855Z
UID:841-1660377600-1660388400@www.megcmusic.com
SUMMARY:Meg & The Old Man Duo
DESCRIPTION:Live at the Rock Rest on the patio \n16005 Mt Vernon Rd\, Golden\, CO 80401
URL:https://www.megcmusic.com/event/meg-the-old-man-duo-2/
ATTACH;FMTTYPE=image/jpeg:https://www.megcmusic.com/wp-content/uploads/2022/05/mandm.jpg
END:VEVENT
BEGIN:VEVENT
DTSTART;TZID=America/Denver:20220810T120000
DTEND;TZID=America/Denver:20220810T140000
DTSTAMP:20260424T215723
CREATED:20220809T210644Z
LAST-MODIFIED:20220809T210704Z
UID:1436-1660132800-1660140000@www.megcmusic.com
SUMMARY:Solo at ElevateHer
DESCRIPTION:https://secure.actblue.com/donate/elevatingwomen
URL:https://www.megcmusic.com/event/solo-at-elevateher/
ATTACH;FMTTYPE=image/jpeg:https://www.megcmusic.com/wp-content/uploads/2022/04/MeghanHorse_143-small-2.jpg
END:VEVENT
BEGIN:VEVENT
DTSTART;TZID=America/Denver:20220806T080000
DTEND;TZID=America/Denver:20220806T110000
DTSTAMP:20260424T215723
CREATED:20220712T080652Z
LAST-MODIFIED:20220712T080652Z
UID:1176-1659772800-1659783600@www.megcmusic.com
SUMMARY:Meg & The Old Man at The Rock Rest
DESCRIPTION:16005 Mt Vernon Rd\, Golden\, CO 80401
URL:https://www.megcmusic.com/event/meg-the-old-man-at-the-rock-rest/
ATTACH;FMTTYPE=image/jpeg:https://www.megcmusic.com/wp-content/uploads/2022/07/thumbnail.jpg
END:VEVENT
BEGIN:VEVENT
DTSTART;TZID=America/Denver:20220805T113000
DTEND;TZID=America/Denver:20220805T140000
DTSTAMP:20260424T215723
CREATED:20220601T032646Z
LAST-MODIFIED:20220601T032646Z
UID:874-1659699000-1659708000@www.megcmusic.com
SUMMARY:Meg & The Old Man
DESCRIPTION:Join us 5-8pm on the patio at The Grill at Legacy Ridge Golf Course.  We’ll play all your favorite covers and some originals too 🙂
URL:https://www.megcmusic.com/event/meg-the-old-man/
ATTACH;FMTTYPE=image/jpeg:https://www.megcmusic.com/wp-content/uploads/2022/05/thumbnail.jpg
END:VEVENT
BEGIN:VEVENT
DTSTART;TZID=America/Denver:20220730T113000
DTEND;TZID=America/Denver:20220730T140000
DTSTAMP:20260424T215723
CREATED:20220728T034407Z
LAST-MODIFIED:20220728T034407Z
UID:1304-1659180600-1659189600@www.megcmusic.com
SUMMARY:Meg & The Old Man at iPie (Broomfield)
DESCRIPTION:145 Nickel St\, Broomfield\, CO 80020
URL:https://www.megcmusic.com/event/meg-the-old-man-at-ipie-broomfield/
ATTACH;FMTTYPE=image/png:https://www.megcmusic.com/wp-content/uploads/2022/07/IMG_6058-2.png
END:VEVENT
BEGIN:VEVENT
DTSTART;TZID=America/Denver:20220722T113000
DTEND;TZID=America/Denver:20220722T140000
DTSTAMP:20260424T215723
CREATED:20220629T090359Z
LAST-MODIFIED:20220629T090359Z
UID:1086-1658489400-1658498400@www.megcmusic.com
SUMMARY:Meg & The Old Man at iPie
DESCRIPTION:Join us on the patio for all your favorite tunes \n  \n5807 W 38th Ave.\nWheat Ridge\, CO 80212
URL:https://www.megcmusic.com/event/meg-the-old-man-at-ipie/
ATTACH;FMTTYPE=image/jpeg:https://www.megcmusic.com/wp-content/uploads/2022/05/IMG_4905.jpg
END:VEVENT
BEGIN:VEVENT
DTSTART;TZID=America/Denver:20220716T110000
DTEND;TZID=America/Denver:20220716T140000
DTSTAMP:20260424T215723
CREATED:20220515T113116Z
LAST-MODIFIED:20220603T102344Z
UID:777-1657969200-1657980000@www.megcmusic.com
SUMMARY:Meg and The Old Man at Legacy Ridge
DESCRIPTION:Join us 5-8pm on the patio at The Grill at Legacy Ridge Golf Course.  We’ll play all your favorite covers and some originals too 🙂
URL:https://www.megcmusic.com/event/meg-and-the-old-man-at-legacy-ridge/
ATTACH;FMTTYPE=image/jpeg:https://www.megcmusic.com/wp-content/uploads/2022/05/IMG_4905.jpg
END:VEVENT
BEGIN:VEVENT
DTSTART;TZID=America/Denver:20220715T120000
DTEND;TZID=America/Denver:20220715T140000
DTSTAMP:20260424T215723
CREATED:20220506T000058Z
LAST-MODIFIED:20220506T000058Z
UID:750-1657886400-1657893600@www.megcmusic.com
SUMMARY:Meg & The Old Man Live at Colorado Roots
DESCRIPTION:Colorado Roots is a beautiful venue with gourmet food.  Make a reservation for dinner if you’re coming\, it will fill up \n1200 Miramonte Street\, Broomfield\, CO 80020 \nhttps://www.rootscolorado.com/
URL:https://www.megcmusic.com/event/meg-the-old-man-live-at-colorado-roots-2/
ATTACH;FMTTYPE=image/jpeg:https://www.megcmusic.com/wp-content/uploads/2022/05/steve.jpg
END:VEVENT
BEGIN:VEVENT
DTSTART;TZID=America/Denver:20220711T101500
DTEND;TZID=America/Denver:20220711T111500
DTSTAMP:20260424T215723
CREATED:20220629T074352Z
LAST-MODIFIED:20220629T074352Z
UID:1083-1657534500-1657538100@www.megcmusic.com
SUMMARY:Live Music Yoga
DESCRIPTION:Becky teaches Hot Power Fusion at the Littleton Core Power Yoga and Meghan will provide the music.
URL:https://www.megcmusic.com/event/live-music-yoga-5/
ATTACH;FMTTYPE=image/jpeg:https://www.megcmusic.com/wp-content/uploads/2022/04/kirtan.jpg
END:VEVENT
BEGIN:VEVENT
DTSTART;TZID=America/Denver:20220709T080000
DTEND;TZID=America/Denver:20220709T110000
DTSTAMP:20260424T215723
CREATED:20220529T003420Z
LAST-MODIFIED:20220529T003420Z
UID:839-1657353600-1657364400@www.megcmusic.com
SUMMARY:Meg & The Old Man Duo
DESCRIPTION:Live at Rock Rest Bar in Golden \n16005 Mt Vernon Rd\, Golden\, CO 80401
URL:https://www.megcmusic.com/event/meg-the-old-man-duo/
ATTACH;FMTTYPE=image/jpeg:https://www.megcmusic.com/wp-content/uploads/2022/05/steve-1.jpg
END:VEVENT
BEGIN:VEVENT
DTSTART;TZID=America/Denver:20220703T100000
DTEND;TZID=America/Denver:20220703T120000
DTSTAMP:20260424T215723
CREATED:20220526T023807Z
LAST-MODIFIED:20220526T023807Z
UID:815-1656842400-1656849600@www.megcmusic.com
SUMMARY:Solo Acoustic Show
DESCRIPTION:at BOCO Cider and Taproom \n1501 Lee Hill Dr UNIT 14\, Boulder\, CO 80304
URL:https://www.megcmusic.com/event/solo-acoustic-show/
ATTACH;FMTTYPE=image/jpeg:https://www.megcmusic.com/wp-content/uploads/2022/04/MeghanHorse_143-small-2.jpg
END:VEVENT
BEGIN:VEVENT
DTSTART;TZID=America/Denver:20220627T123000
DTEND;TZID=America/Denver:20220627T143000
DTSTAMP:20260424T215723
CREATED:20220602T025352Z
LAST-MODIFIED:20220602T204038Z
UID:883-1656333000-1656340200@www.megcmusic.com
SUMMARY:Kirtan Event
DESCRIPTION:Kirtan with Meghan\, Kate\, & Derek \nCome join us for traditional yogic chanting with harmoniums\, drums\, and guitar.  We will lead the chants\, explain the backgrounds and meanings of them. \nGolden Well Being Collective:  410 9th St\, Golden\, CO 80401 \nCost:  Sliding scale $5 – $20 no one will be turned away for lack of funds.
URL:https://www.megcmusic.com/event/kirtan/
ATTACH;FMTTYPE=image/jpeg:https://www.megcmusic.com/wp-content/uploads/2022/06/thumbnail-1.jpg
END:VEVENT
BEGIN:VEVENT
DTSTART;TZID=America/Denver:20220626T110000
DTEND;TZID=America/Denver:20220626T120000
DTSTAMP:20260424T215723
CREATED:20220507T235759Z
LAST-MODIFIED:20220528T103446Z
UID:760-1656241200-1656244800@www.megcmusic.com
SUMMARY:Meg & the Old Man at Private Event
DESCRIPTION:Send a message if you are interested in attending
URL:https://www.megcmusic.com/event/solo-acoustic-at-private-event/
ATTACH;FMTTYPE=image/jpeg:https://www.megcmusic.com/wp-content/uploads/2022/04/MeghanHorse_162-1-scaled.jpg
END:VEVENT
BEGIN:VEVENT
DTSTART;TZID=America/Denver:20220625T030000
DTEND;TZID=America/Denver:20220625T040000
DTSTAMP:20260424T215723
CREATED:20220422T230721Z
LAST-MODIFIED:20220506T000259Z
UID:694-1656126000-1656129600@www.megcmusic.com
SUMMARY:Live Music Yoga (Solo acoustic)
DESCRIPTION:Loretta will teach Hot Power Fusion at the Belmar Core Power at 9am and I’ll provide the music.  Join us 🙂
URL:https://www.megcmusic.com/event/live-music-yoga-3/
ATTACH;FMTTYPE=image/jpeg:https://www.megcmusic.com/wp-content/uploads/2022/04/kirtan.jpg
END:VEVENT
BEGIN:VEVENT
DTSTART;TZID=America/Denver:20220619T040000
DTEND;TZID=America/Denver:20220619T060000
DTSTAMP:20260424T215723
CREATED:20220616T044321Z
LAST-MODIFIED:20220616T044321Z
UID:973-1655611200-1655618400@www.megcmusic.com
SUMMARY:Meg & The Old Man
DESCRIPTION:at The Grill at Legacy Ridge Golf Course \n10801 Legacy Ridge Pkwy\, Westminster\, CO 80031
URL:https://www.megcmusic.com/event/meg-the-old-man-2/
ATTACH;FMTTYPE=image/jpeg:https://www.megcmusic.com/wp-content/uploads/2022/05/IMG_4905.jpg
END:VEVENT
BEGIN:VEVENT
DTSTART;TZID=America/Denver:20220618T120000
DTEND;TZID=America/Denver:20220618T140000
DTSTAMP:20260424T215723
CREATED:20220505T235923Z
LAST-MODIFIED:20220505T235923Z
UID:748-1655553600-1655560800@www.megcmusic.com
SUMMARY:Meg & The Old Man Live at Colorado Roots
DESCRIPTION:Colorado Roots is a beautiful venue with gourmet food.  Make a reservation for dinner if you’re coming\, it will fill up \n1200 Miramonte Street\, Broomfield\, CO 80020 \nhttps://www.rootscolorado.com/
URL:https://www.megcmusic.com/event/meg-the-old-man-live-at-colorado-roots/
ATTACH;FMTTYPE=image/jpeg:https://www.megcmusic.com/wp-content/uploads/2022/05/steve-1.jpg
END:VEVENT
BEGIN:VEVENT
DTSTART;TZID=America/Denver:20220610T110000
DTEND;TZID=America/Denver:20220610T140000
DTSTAMP:20260424T215723
CREATED:20220528T103201Z
LAST-MODIFIED:20220528T103201Z
UID:833-1654858800-1654869600@www.megcmusic.com
SUMMARY:Meghan + Special Guest
DESCRIPTION:The Grill at Legacy Ridge Golf Course
URL:https://www.megcmusic.com/event/meghan-special-guest/
ATTACH;FMTTYPE=image/jpeg:https://www.megcmusic.com/wp-content/uploads/2021/10/MeghanHorse_121.jpg
END:VEVENT
BEGIN:VEVENT
DTSTART;TZID=America/Denver:20220530T020000
DTEND;TZID=America/Denver:20220530T110000
DTSTAMP:20260424T215723
CREATED:20220530T225132Z
LAST-MODIFIED:20220530T225132Z
UID:859-1653876000-1653908400@www.megcmusic.com
SUMMARY:Short Solo Acoustic Set
DESCRIPTION:30 minutes set at The Alley in Littleton (7:30pm – 8pm) \nMy friends Larry and Freddy play before and after me
URL:https://www.megcmusic.com/event/short-solo-acoustic-set/
ATTACH;FMTTYPE=image/jpeg:https://www.megcmusic.com/wp-content/uploads/2022/05/285349937_781769336567317_5542338145237894534_n.jpg
END:VEVENT
BEGIN:VEVENT
DTSTART;TZID=America/Denver:20220529T113000
DTEND;TZID=America/Denver:20220529T113000
DTSTAMP:20260424T215723
CREATED:20220523T201840Z
LAST-MODIFIED:20220523T201840Z
UID:798-1653823800-1653823800@www.megcmusic.com
SUMMARY:Live Music Yoga
DESCRIPTION:kate teaches a 75 minute C2 flow.  Derek on drums and Meghan on guitar and harmonium.  It will be magical!
URL:https://www.megcmusic.com/event/live-music-yoga-4/
ATTACH;FMTTYPE=image/jpeg:https://www.megcmusic.com/wp-content/uploads/2022/04/kirtan.jpg
END:VEVENT
BEGIN:VEVENT
DTSTART;TZID=America/Denver:20220528T123000
DTEND;TZID=America/Denver:20220528T150000
DTSTAMP:20260424T215723
CREATED:20220310T224944Z
LAST-MODIFIED:20220510T015716Z
UID:591-1653741000-1653750000@www.megcmusic.com
SUMMARY:Meg & The Old Man at The Met Bar & Grill
DESCRIPTION:10111 Inverness Main St\, Englewood\, CO 80112
URL:https://www.megcmusic.com/event/acoustic-evening-at-the-met-bar-grill/
ATTACH;FMTTYPE=image/png:https://www.megcmusic.com/wp-content/uploads/2022/03/logo.png
END:VEVENT
BEGIN:VEVENT
DTSTART;TZID=America/Denver:20220522T080000
DTEND;TZID=America/Denver:20220522T110000
DTSTAMP:20260424T215723
CREATED:20220503T221855Z
LAST-MODIFIED:20220503T221914Z
UID:724-1653206400-1653217200@www.megcmusic.com
SUMMARY:Meg & The Old Man at Rock Rest
DESCRIPTION:Join us on the patio May 22nd 2pm – 5pm at the Rock Rest in Golden\, CO \n16005 Mt Vernon Rd\, Golden\, CO 80401
URL:https://www.megcmusic.com/event/meg-the-old-man-at-rock-rest/
ATTACH;FMTTYPE=image/jpeg:https://www.megcmusic.com/wp-content/uploads/2022/05/steve.jpg
END:VEVENT
BEGIN:VEVENT
DTSTART;TZID=America/Denver:20220521T120000
DTEND;TZID=America/Denver:20220521T140000
DTSTAMP:20260424T215723
CREATED:20220505T235800Z
LAST-MODIFIED:20220505T235800Z
UID:746-1653134400-1653141600@www.megcmusic.com
SUMMARY:Meg and The Old Man at Colorado Roots
DESCRIPTION:  \nColorado Roots is a beautiful venue with gourmet food.  Make a reservation for dinner if you’re coming\, it will fill up \n1200 Miramonte Street\, Broomfield\, CO 80020 \nhttps://www.rootscolorado.com/
URL:https://www.megcmusic.com/event/meg-and-the-old-man-at-colorado-roots/
ATTACH;FMTTYPE=image/jpeg:https://www.megcmusic.com/wp-content/uploads/2022/05/steve.jpg
END:VEVENT
BEGIN:VEVENT
DTSTART;TZID=America/Denver:20220513T110000
DTEND;TZID=America/Denver:20220513T140000
DTSTAMP:20260424T215723
CREATED:20220504T071037Z
LAST-MODIFIED:20220504T071051Z
UID:738-1652439600-1652450400@www.megcmusic.com
SUMMARY:Meg & The Old Man at Legacy Ridge Golf
DESCRIPTION:Join us for live music on the patio at The Grill at Legacy Ridge Golf Course
URL:https://www.megcmusic.com/event/meg-the-old-man-at-legacy-ridge-gold/
ATTACH;FMTTYPE=image/jpeg:https://www.megcmusic.com/wp-content/uploads/2022/05/steve-1.jpg
END:VEVENT
BEGIN:VEVENT
DTSTART;TZID=America/Denver:20220505T113000
DTEND;TZID=America/Denver:20220505T123000
DTSTAMP:20260424T215723
CREATED:20220504T013007Z
LAST-MODIFIED:20220504T013007Z
UID:728-1651750200-1651753800@www.megcmusic.com
SUMMARY:Private Show - Solo Acoustic
DESCRIPTION:Hotel Colorado\, Glenwood Springs
URL:https://www.megcmusic.com/event/private-show-solo-acoustic/
ATTACH;FMTTYPE=image/jpeg:https://www.megcmusic.com/wp-content/uploads/2022/04/MeghanGuitar_072-3-scaled.jpg
END:VEVENT
BEGIN:VEVENT
DTSTART;TZID=America/Denver:20220503T020000
DTEND;TZID=America/Denver:20220503T110000
DTSTAMP:20260424T215723
CREATED:20220504T041927Z
LAST-MODIFIED:20220504T041927Z
UID:735-1651543200-1651575600@www.megcmusic.com
SUMMARY:Meg & The Old Man at The Grill
DESCRIPTION:Join us at The Grill at Legacy Ridge Golf Course \n5pm – 8pm \n10801 Legacy Ridge Pkwy\, Westminster\, CO 80031
URL:https://www.megcmusic.com/event/meg-the-old-man-at-the-grill/
ATTACH;FMTTYPE=image/jpeg:https://www.megcmusic.com/wp-content/uploads/2022/05/IMG_1540.jpg
END:VEVENT
BEGIN:VEVENT
DTSTART;TZID=America/Denver:20220502T101500
DTEND;TZID=America/Denver:20220502T111500
DTSTAMP:20260424T215723
CREATED:20220420T021454Z
LAST-MODIFIED:20220420T021454Z
UID:682-1651486500-1651490100@www.megcmusic.com
SUMMARY:Live Music Yoga Class
DESCRIPTION:Littleton Core Power Studio \nBecky teaches the 4:15pm Hot Power Fusion and I’ll provide the music.
URL:https://www.megcmusic.com/event/live-music-yoga-class-10/
ATTACH;FMTTYPE=image/jpeg:https://www.megcmusic.com/wp-content/uploads/2022/04/kirtan.jpg
END:VEVENT
BEGIN:VEVENT
DTSTART;TZID=America/Denver:20220501T043000
DTEND;TZID=America/Denver:20220501T053000
DTSTAMP:20260424T215723
CREATED:20220422T023925Z
LAST-MODIFIED:20220422T023925Z
UID:689-1651379400-1651383000@www.megcmusic.com
SUMMARY:Live Music Yoga
DESCRIPTION:Pauline teaches Hot Power Fusion and I’ll play some live music 🙂
URL:https://www.megcmusic.com/event/live-music-yoga-2/
ATTACH;FMTTYPE=image/jpeg:https://www.megcmusic.com/wp-content/uploads/2022/04/kirtan.jpg
END:VEVENT
END:VCALENDAR