BEGIN:VCALENDAR
VERSION:2.0
PRODID:-//Meghan Clarisse Cave - ECPv6.15.20//NONSGML v1.0//EN
CALSCALE:GREGORIAN
METHOD:PUBLISH
X-ORIGINAL-URL:https://www.megcmusic.com
X-WR-CALDESC:Events for Meghan Clarisse Cave
REFRESH-INTERVAL;VALUE=DURATION:PT1H
X-Robots-Tag:noindex
X-PUBLISHED-TTL:PT1H
BEGIN:VTIMEZONE
TZID:America/Denver
BEGIN:DAYLIGHT
TZOFFSETFROM:-0700
TZOFFSETTO:-0600
TZNAME:MDT
DTSTART:20210314T090000
END:DAYLIGHT
BEGIN:STANDARD
TZOFFSETFROM:-0600
TZOFFSETTO:-0700
TZNAME:MST
DTSTART:20211107T080000
END:STANDARD
BEGIN:DAYLIGHT
TZOFFSETFROM:-0700
TZOFFSETTO:-0600
TZNAME:MDT
DTSTART:20220313T090000
END:DAYLIGHT
BEGIN:STANDARD
TZOFFSETFROM:-0600
TZOFFSETTO:-0700
TZNAME:MST
DTSTART:20221106T080000
END:STANDARD
BEGIN:DAYLIGHT
TZOFFSETFROM:-0700
TZOFFSETTO:-0600
TZNAME:MDT
DTSTART:20230312T090000
END:DAYLIGHT
BEGIN:STANDARD
TZOFFSETFROM:-0600
TZOFFSETTO:-0700
TZNAME:MST
DTSTART:20231105T080000
END:STANDARD
BEGIN:DAYLIGHT
TZOFFSETFROM:-0700
TZOFFSETTO:-0600
TZNAME:MDT
DTSTART:20240310T090000
END:DAYLIGHT
BEGIN:STANDARD
TZOFFSETFROM:-0600
TZOFFSETTO:-0700
TZNAME:MST
DTSTART:20241103T080000
END:STANDARD
END:VTIMEZONE
BEGIN:VEVENT
DTSTART;TZID=America/Denver:20230426T113000
DTEND;TZID=America/Denver:20230426T123000
DTSTAMP:20260424T162650
CREATED:20230405T231412Z
LAST-MODIFIED:20230405T231412Z
UID:2671-1682508600-1682512200@www.megcmusic.com
SUMMARY:Live Music Yoga
DESCRIPTION:Join us for a C2 class – Sydney will teach and I’ll play live music \n5:30pm \n2825 W Belleview Ave\, Littleton\, CO 80123
URL:https://www.megcmusic.com/event/live-music-yoga-12/
ATTACH;FMTTYPE=image/jpeg:https://www.megcmusic.com/wp-content/uploads/2022/04/kirtan.jpg
END:VEVENT
BEGIN:VEVENT
DTSTART;TZID=America/Denver:20230421T120000
DTEND;TZID=America/Denver:20230421T143000
DTSTAMP:20260424T162650
CREATED:20230330T205128Z
LAST-MODIFIED:20230330T205128Z
UID:2639-1682078400-1682087400@www.megcmusic.com
SUMMARY:Trio at iPie!
DESCRIPTION:Join Valerie Bhat\, Michelle Castillo and me with Joe Oeser backing us up at iPie in WheatRidge \n5807 W 38th Ave\, Wheat Ridge\, CO 80212
URL:https://www.megcmusic.com/event/trio-at-ipie-3/
ATTACH;FMTTYPE=image/jpeg:https://www.megcmusic.com/wp-content/uploads/2022/08/download.jpg
END:VEVENT
BEGIN:VEVENT
DTSTART;TZID=America/Denver:20230408T030000
DTEND;TZID=America/Denver:20230408T060000
DTSTAMP:20260424T162650
CREATED:20230223T005334Z
LAST-MODIFIED:20230223T061829Z
UID:2559-1680922800-1680933600@www.megcmusic.com
SUMMARY:Meghan & The Old Man in Arizona!
DESCRIPTION:Live at Taliesin West\, winter home of Frank Lloyd Wright \nhttps://franklloydwright.org/ \n12621 N Frank Lloyd Wright Blvd\, Scottsdale\, AZ 85259
URL:https://www.megcmusic.com/event/meghan-clarisse-in-arizona/
ATTACH;FMTTYPE=image/png:https://www.megcmusic.com/wp-content/uploads/2023/01/Songs-From-The-Sofa_Cover_Social-2.png
END:VEVENT
BEGIN:VEVENT
DTSTART;TZID=America/Denver:20230403T101500
DTEND;TZID=America/Denver:20230403T111500
DTSTAMP:20260424T162650
CREATED:20230216T063139Z
LAST-MODIFIED:20230216T063139Z
UID:2534-1680516900-1680520500@www.megcmusic.com
SUMMARY:Live Music Yoga
DESCRIPTION:Join us at The Littleton Core Power studio!  Becky teaches Hot Power Fusion and I’ll play music
URL:https://www.megcmusic.com/event/live-music-yoga-11/
ATTACH;FMTTYPE=image/png:https://www.megcmusic.com/wp-content/uploads/2023/02/unnamed.png
END:VEVENT
BEGIN:VEVENT
DTSTART;TZID=America/Denver:20230324T130000
DTEND;TZID=America/Denver:20230324T160000
DTSTAMP:20260424T162650
CREATED:20230126T035010Z
LAST-MODIFIED:20230126T035010Z
UID:2435-1679662800-1679673600@www.megcmusic.com
SUMMARY:Meg & The Old Man
DESCRIPTION:at Silver Vines Winery in Arvada \n7509 Grandview Ave\, Arvada\, CO 80002
URL:https://www.megcmusic.com/event/meg-the-old-man-7/
ATTACH;FMTTYPE=image/jpeg:https://www.megcmusic.com/wp-content/uploads/2022/05/IMG_4905.jpg
END:VEVENT
BEGIN:VEVENT
DTSTART;TZID=America/Denver:20230319T100000
DTEND;TZID=America/Denver:20230319T130000
DTSTAMP:20260424T162650
CREATED:20230124T110130Z
LAST-MODIFIED:20230222T224627Z
UID:2421-1679220000-1679230800@www.megcmusic.com
SUMMARY:Meghan & Her Cavemen at Lost Lake
DESCRIPTION:Live at Lost Lake \nwith Alex Rhodes & Jay Stott \nLost Lake Presents Jay Stott with Alex Rhodes Show and Meghan Clarisse on Sunday\, March 19th.\nADVANCE $12 / $DOS $15 \nTickets:  https://www.etix.com/ticket/p/6499697/jay-stott-walex-rhodes-show-meghan-clarisse-denver-lost-lake-lounge?fbclid=IwAR0HdYjLbC0mlFKCN0O7jsbPvgbUr0cJJ5oxxrRjOH00xFSadpkK8-bYgt4
URL:https://www.megcmusic.com/event/meghan-her-cavemen-2/
ATTACH;FMTTYPE=image/jpeg:https://www.megcmusic.com/wp-content/uploads/2023/01/IMG_9765-1.jpg
END:VEVENT
BEGIN:VEVENT
DTSTART;TZID=America/Denver:20230317T120000
DTEND;TZID=America/Denver:20230317T143000
DTSTAMP:20260424T162650
CREATED:20221028T233922Z
LAST-MODIFIED:20221028T234214Z
UID:1987-1679054400-1679063400@www.megcmusic.com
SUMMARY:Trio at iPie!
DESCRIPTION:Women’s songwriter Round at iPie in Wheat Ridge \nFeaturing Valerie Bhat\, Michelle Castillo & me \n5807 W 38th Ave\, Wheat Ridge\, CO 80212
URL:https://www.megcmusic.com/event/trio-at-ipie-2/
ATTACH;FMTTYPE=image/jpeg:https://www.megcmusic.com/wp-content/uploads/2022/10/trio.jpg
END:VEVENT
BEGIN:VEVENT
DTSTART;TZID=America/Denver:20230314T113000
DTEND;TZID=America/Denver:20230314T140000
DTSTAMP:20260424T162650
CREATED:20230225T072244Z
LAST-MODIFIED:20230225T072313Z
UID:2580-1678793400-1678802400@www.megcmusic.com
SUMMARY:Meg & The Old Man at iPie for PIE day
DESCRIPTION:5807 W 38th Ave\, Wheat Ridge\, CO 80212
URL:https://www.megcmusic.com/event/meg-the-old-man-at-ipie-for-pie-day/
ATTACH;FMTTYPE=image/png:https://www.megcmusic.com/wp-content/uploads/2022/07/IMG_6058-2.png
END:VEVENT
BEGIN:VEVENT
DTSTART;TZID=America/Denver:20230310T110000
DTEND;TZID=America/Denver:20230310T130000
DTSTAMP:20260424T162650
CREATED:20221201T225258Z
LAST-MODIFIED:20221201T225258Z
UID:2142-1678446000-1678453200@www.megcmusic.com
SUMMARY:Meg & The Old Man
DESCRIPTION:Live at Half Penny Brewery \n5150 E Arapahoe Rd unit d1-b\, Centennial\, CO 80122
URL:https://www.megcmusic.com/event/meg-the-old-man-5/
ATTACH;FMTTYPE=image/jpeg:https://www.megcmusic.com/wp-content/uploads/2022/05/IMG_4905.jpg
END:VEVENT
BEGIN:VEVENT
DTSTART;TZID=America/Denver:20230304T110000
DTEND;TZID=America/Denver:20230304T140000
DTSTAMP:20260424T162650
CREATED:20221015T050241Z
LAST-MODIFIED:20221015T050241Z
UID:1918-1677927600-1677938400@www.megcmusic.com
SUMMARY:Meg & The Old Man at Inga's Alpine Tavern
DESCRIPTION:5151 Leetsdale Dr\, Denver\, CO 80246
URL:https://www.megcmusic.com/event/meg-the-old-man-at-ingas-alpine-tavern/
ATTACH;FMTTYPE=image/jpeg:https://www.megcmusic.com/wp-content/uploads/2022/05/IMG_1540.jpg
END:VEVENT
BEGIN:VEVENT
DTSTART;TZID=America/Denver:20230225T120000
DTEND;TZID=America/Denver:20230225T160000
DTSTAMP:20260424T162650
CREATED:20221210T095831Z
LAST-MODIFIED:20230216T062845Z
UID:2191-1677326400-1677340800@www.megcmusic.com
SUMMARY:Americana Circus!
DESCRIPTION:Ticketed event \nSaturday February 25th\, 2023\nMoe’s Original BBQ Presents:\nAmericana Circus:\nAt The Watertower (Alt-Americana from Denver\, CO)\nTrouble Bound (Alt-Country Americana from Denver\, CO)\nScarecrow Revival (Goth Americana from Denver\, CO)\nMeghan Clarisse & Her Cavemen (Folk Americana from Denver\, CO)\nTickets: https://022523.eventbrite.com\nDOORS @ 7pm – SHOW @ 7:30pm\nLIMITED CAPACITY – ALL AGES\n3295 S Broadway\, Englewood\, CO \n\n\nEvent:  https://www.facebook.com/events/1217036509230564 \n 
URL:https://www.megcmusic.com/event/meghan-her-cavemen-at-moes-bbq/
ATTACH;FMTTYPE=image/jpeg:https://www.megcmusic.com/wp-content/uploads/2022/12/324868735_1197221471233011_5594796807339916988_n.jpg
END:VEVENT
BEGIN:VEVENT
DTSTART;TZID=America/Denver:20230215T010000
DTEND;TZID=America/Denver:20230215T100000
DTSTAMP:20260424T162650
CREATED:20230306T111502Z
LAST-MODIFIED:20230216T062418Z
UID:2528-1676422800-1676455200@www.megcmusic.com
SUMMARY:Live Music Yoga
DESCRIPTION:Join us for a hot power fusion class taught by Becky and live music by me
URL:https://www.megcmusic.com/event/live-music-yoga-10/
ATTACH;FMTTYPE=image/png:https://www.megcmusic.com/wp-content/uploads/2023/02/unnamed.png
END:VEVENT
BEGIN:VEVENT
DTSTART;TZID=America/Denver:20230129T090000
DTEND;TZID=America/Denver:20230129T110000
DTSTAMP:20260424T162650
CREATED:20221130T021124Z
LAST-MODIFIED:20221130T021124Z
UID:2138-1674982800-1674990000@www.megcmusic.com
SUMMARY:Solo Acoustic at BOCO Ciders
DESCRIPTION:Come drink ciders and listen to me play originals and covers! \n1501 Lee Hill Dr UNIT 14\, Boulder\, CO 80304
URL:https://www.megcmusic.com/event/solo-acoustic-at-boco-ciders/
ATTACH;FMTTYPE=image/jpeg:https://www.megcmusic.com/wp-content/uploads/2022/04/MeghanHorse_162-1-scaled.jpg
END:VEVENT
BEGIN:VEVENT
DTSTART;TZID=America/Denver:20230121T130000
DTEND;TZID=America/Denver:20230121T163000
DTSTAMP:20260424T162650
CREATED:20221028T234742Z
LAST-MODIFIED:20221028T234818Z
UID:1990-1674306000-1674318600@www.megcmusic.com
SUMMARY:Meghan Clarisse & Her Cavemen
DESCRIPTION:Full band show at Holiday bar in Morrison \n\n\n403 Bear Creek Ave\, Morrison\, CO 80465 \n\n\n\n\n\nCome party with us!
URL:https://www.megcmusic.com/event/meghan-clarisse-her-cavemen/
END:VEVENT
BEGIN:VEVENT
DTSTART;TZID=America/Denver:20230120T100000
DTEND;TZID=America/Denver:20230120T130000
DTSTAMP:20260424T162650
CREATED:20221130T021357Z
LAST-MODIFIED:20221130T021357Z
UID:2140-1674208800-1674219600@www.megcmusic.com
SUMMARY:Meg & The Old Man
DESCRIPTION:Over Yonder Brewery \n18455 W Colfax Ave #103\, Golden\, CO 80401
URL:https://www.megcmusic.com/event/meg-the-old-man-4/
ATTACH;FMTTYPE=image/jpeg:https://www.megcmusic.com/wp-content/uploads/2022/05/steve-1.jpg
END:VEVENT
BEGIN:VEVENT
DTSTART;TZID=America/Denver:20230117T120000
DTEND;TZID=America/Denver:20230117T120000
DTSTAMP:20260424T162650
CREATED:20221107T045253Z
LAST-MODIFIED:20230117T100831Z
UID:2029-1673956800-1673956800@www.megcmusic.com
SUMMARY:CANCELLED:  Live at Brewery Rickoli with Adam Stern
DESCRIPTION:
URL:https://www.megcmusic.com/event/live-at-brewery-rickoli-with-adam-stern/
ATTACH;FMTTYPE=image/png:https://www.megcmusic.com/wp-content/uploads/2022/11/rickolis.png
END:VEVENT
BEGIN:VEVENT
DTSTART;TZID=America/Denver:20230115T100000
DTEND;TZID=America/Denver:20230115T110000
DTSTAMP:20260424T162650
CREATED:20221208T065112Z
LAST-MODIFIED:20221208T065112Z
UID:2177-1673776800-1673780400@www.megcmusic.com
SUMMARY:With Melodica
DESCRIPTION:Come see our all female rock and roll cover band at the opening set of the Green Mountain Beer Company Open Mic!
URL:https://www.megcmusic.com/event/with-melodica/
END:VEVENT
BEGIN:VEVENT
DTSTART;TZID=America/Denver:20230114T120000
DTEND;TZID=America/Denver:20230114T150000
DTSTAMP:20260424T162650
CREATED:20221206T033029Z
LAST-MODIFIED:20221206T033029Z
UID:2162-1673697600-1673708400@www.megcmusic.com
SUMMARY:Solo Acoustic at La Dolce Vita Coffeshop
DESCRIPTION:5756 Olde Wadsworth Blvd\, Arvada\, CO 80002
URL:https://www.megcmusic.com/event/solo-acoustic-at-la-dolce-vita-coffeshop/
ATTACH;FMTTYPE=image/jpeg:https://www.megcmusic.com/wp-content/uploads/2022/04/MeghanHorse_162-scaled.jpg
END:VEVENT
BEGIN:VEVENT
DTSTART;TZID=America/Denver:20230113T110000
DTEND;TZID=America/Denver:20230113T133000
DTSTAMP:20260424T162650
CREATED:20221028T233619Z
LAST-MODIFIED:20221028T233619Z
UID:1982-1673607600-1673616600@www.megcmusic.com
SUMMARY:Trio at iPie!
DESCRIPTION:Women’s Songwriter Round at iPie in Wheat Ridge \nfeaturing Valerie Bhat\, Michelle Castillo & me \n5807 W 38th Ave\, Wheat Ridge\, CO 80212
URL:https://www.megcmusic.com/event/trio-at-ipie/
ATTACH;FMTTYPE=image/jpeg:https://www.megcmusic.com/wp-content/uploads/2022/10/trio.jpg
END:VEVENT
BEGIN:VEVENT
DTSTART;TZID=America/Denver:20221223T120000
DTEND;TZID=America/Denver:20221223T150000
DTSTAMP:20260424T162650
CREATED:20221224T072800Z
LAST-MODIFIED:20221224T072800Z
UID:2263-1671796800-1671807600@www.megcmusic.com
SUMMARY:Meg & The Old Man
DESCRIPTION:at Silver Vines Winery in Arvada
URL:https://www.megcmusic.com/event/meg-the-old-man-6/
ATTACH;FMTTYPE=image/jpeg:https://www.megcmusic.com/wp-content/uploads/2022/05/IMG_4905.jpg
END:VEVENT
BEGIN:VEVENT
DTSTART;TZID=America/Denver:20221222T130000
DTEND;TZID=America/Denver:20221222T160000
DTSTAMP:20260424T162650
CREATED:20221015T045751Z
LAST-MODIFIED:20221015T045751Z
UID:1914-1671714000-1671724800@www.megcmusic.com
SUMMARY:Meg & The Old Man in Evergreen!
DESCRIPTION:Come see us at The Wood Cellar in Evergreen 8pm – 11pm \n1552 Bergen Pkwy #101\, Evergreen\, CO 80439
URL:https://www.megcmusic.com/event/meg-the-old-man-in-evergreen/
ATTACH;FMTTYPE=image/jpeg:https://www.megcmusic.com/wp-content/uploads/2022/05/steve-1.jpg
END:VEVENT
BEGIN:VEVENT
DTSTART;TZID=America/Denver:20221220T090000
DTEND;TZID=America/Denver:20221220T100000
DTSTAMP:20260424T162650
CREATED:20221213T220543Z
LAST-MODIFIED:20221213T220543Z
UID:2213-1671526800-1671530400@www.megcmusic.com
SUMMARY:Live Music Yoga
DESCRIPTION:4pm class at the Littleton Core Power Yoga Studio \n2825 West Belleview Avenue\, Littleton\, CO 80123
URL:https://www.megcmusic.com/event/live-music-yoga-9/
ATTACH;FMTTYPE=image/jpeg:https://www.megcmusic.com/wp-content/uploads/2022/04/kirtan.jpg
END:VEVENT
BEGIN:VEVENT
DTSTART;TZID=America/Denver:20221216T110000
DTEND;TZID=America/Denver:20221216T133000
DTSTAMP:20260424T162650
CREATED:20220831T072352Z
LAST-MODIFIED:20221028T234452Z
UID:1605-1671188400-1671197400@www.megcmusic.com
SUMMARY:Trio at iPie!
DESCRIPTION:Women’s songwriter Round at iPie in Wheat Ridge \nFeaturing Valerie Bhat\, Michelle Castillo & me \n5807 W 38th Ave\, Wheat Ridge\, CO 80212
URL:https://www.megcmusic.com/event/songwriter-round-at-infinitus-pizza-2/
ATTACH;FMTTYPE=image/jpeg:https://www.megcmusic.com/wp-content/uploads/2022/10/trio.jpg
END:VEVENT
BEGIN:VEVENT
DTSTART;TZID=America/Denver:20221126T090000
DTEND;TZID=America/Denver:20221126T120000
DTSTAMP:20260424T162650
CREATED:20221115T055100Z
LAST-MODIFIED:20221115T055100Z
UID:2065-1669453200-1669464000@www.megcmusic.com
SUMMARY:Meghan & Her Cavemen at GMBC!
DESCRIPTION:Come party with us for the 6th anniversary celebration at Green Mountain Beer Company \n2585 S Lewis way\, Lakewood\, CO
URL:https://www.megcmusic.com/event/meghan-her-cavemen-at-gmbc/
ATTACH;FMTTYPE=image/jpeg:https://www.megcmusic.com/wp-content/uploads/2022/11/cavemen-1.jpg
END:VEVENT
BEGIN:VEVENT
DTSTART;TZID=America/Denver:20221029T123000
DTEND;TZID=America/Denver:20221029T150000
DTSTAMP:20260424T162650
CREATED:20220602T040533Z
LAST-MODIFIED:20220602T040533Z
UID:885-1667046600-1667055600@www.megcmusic.com
SUMMARY:Halloween Party at The Met Bar & Grill
DESCRIPTION:The Old Man and I will provide the tunes for a SPOOKY Halloween party at the Metropolitan Bar and Grill.  Costumes encouraged!! \n  \n10111 Inverness Main St\, Englewood\, CO 80112
URL:https://www.megcmusic.com/event/halloween-party-at-the-met-bar-grill/
ATTACH;FMTTYPE=image/jpeg:https://www.megcmusic.com/wp-content/uploads/2022/05/thumbnail.jpg
END:VEVENT
BEGIN:VEVENT
DTSTART;TZID=America/Denver:20221023T040000
DTEND;TZID=America/Denver:20221023T060000
DTSTAMP:20260424T162650
CREATED:20220927T225504Z
LAST-MODIFIED:20220927T225504Z
UID:1826-1666497600-1666504800@www.megcmusic.com
SUMMARY:Live at Legacy Ridge Grill
DESCRIPTION:10801 Legacy Ridge Pkwy\, Westminster\, CO 80031
URL:https://www.megcmusic.com/event/live-at-legacy-ridge-grill/
ATTACH;FMTTYPE=image/jpeg:https://www.megcmusic.com/wp-content/uploads/2022/04/DSC03504small.jpg
END:VEVENT
BEGIN:VEVENT
DTSTART;TZID=America/Denver:20221021T120000
DTEND;TZID=America/Denver:20221021T143000
DTSTAMP:20260424T162650
CREATED:20220831T071609Z
LAST-MODIFIED:20220831T072026Z
UID:1602-1666353600-1666362600@www.megcmusic.com
SUMMARY:Songwriter Round at Infinitus Pizza
DESCRIPTION:come listen to Michelle Castillo\, Valerie Bhat and me play original songs \n5807 W 38th Ave\, Wheat Ridge\, CO 80212 \n6:00 – 8:30PM
URL:https://www.megcmusic.com/event/songwriter-round-at-infinitus-pizza/
ATTACH;FMTTYPE=image/jpeg:https://www.megcmusic.com/wp-content/uploads/2022/08/download.jpg
END:VEVENT
BEGIN:VEVENT
DTSTART;TZID=America/Denver:20221018T110000
DTEND;TZID=America/Denver:20221018T120000
DTSTAMP:20260424T162650
CREATED:20220802T065545Z
LAST-MODIFIED:20220802T065545Z
UID:1360-1666090800-1666094400@www.megcmusic.com
SUMMARY:Musicians On Call
DESCRIPTION:Volunteer Shift for Musicians On Call \nHome
URL:https://www.megcmusic.com/event/musicians-on-call-2/
ATTACH;FMTTYPE=image/png:https://www.megcmusic.com/wp-content/uploads/2022/08/moclogo_header-e1525368203117.png
END:VEVENT
BEGIN:VEVENT
DTSTART;TZID=America/Denver:20221016T100000
DTEND;TZID=America/Denver:20221016T130000
DTSTAMP:20260424T162653
CREATED:20221015T050024Z
LAST-MODIFIED:20221015T050024Z
UID:1916-1665914400-1665925200@www.megcmusic.com
SUMMARY:Solo Song Swap with CW Wooten
DESCRIPTION:1119 Washington Ave\, Golden\, CO 80401 \n4pm – 7pm
URL:https://www.megcmusic.com/event/solo-song-swap-with-cw-wooten/
ATTACH;FMTTYPE=image/jpeg:https://www.megcmusic.com/wp-content/uploads/2022/04/MeghanHorse_162-3.jpg
END:VEVENT
BEGIN:VEVENT
DTSTART;TZID=America/Denver:20221009T080000
DTEND;TZID=America/Denver:20221009T110000
DTSTAMP:20260424T162653
CREATED:20220822T001440Z
LAST-MODIFIED:20220822T001440Z
UID:1522-1665302400-1665313200@www.megcmusic.com
SUMMARY:Meg & The Old Man
DESCRIPTION:Come party with us on the patio 2pm – 5pm\n16005 Mt Vernon Rd\, Golden\, CO 80401
URL:https://www.megcmusic.com/event/meg-the-old-man-3/
ATTACH;FMTTYPE=image/jpeg:https://www.megcmusic.com/wp-content/uploads/2022/05/steve-1.jpg
END:VEVENT
END:VCALENDAR