BEGIN:VCALENDAR
VERSION:2.0
PRODID:-//Meghan Clarisse Cave - ECPv6.15.20//NONSGML v1.0//EN
CALSCALE:GREGORIAN
METHOD:PUBLISH
X-WR-CALNAME:Meghan Clarisse Cave
X-ORIGINAL-URL:https://www.megcmusic.com
X-WR-CALDESC:Events for Meghan Clarisse Cave
REFRESH-INTERVAL;VALUE=DURATION:PT1H
X-Robots-Tag:noindex
X-PUBLISHED-TTL:PT1H
BEGIN:VTIMEZONE
TZID:America/Denver
BEGIN:DAYLIGHT
TZOFFSETFROM:-0700
TZOFFSETTO:-0600
TZNAME:MDT
DTSTART:20240310T090000
END:DAYLIGHT
BEGIN:STANDARD
TZOFFSETFROM:-0600
TZOFFSETTO:-0700
TZNAME:MST
DTSTART:20241103T080000
END:STANDARD
BEGIN:DAYLIGHT
TZOFFSETFROM:-0700
TZOFFSETTO:-0600
TZNAME:MDT
DTSTART:20250309T090000
END:DAYLIGHT
BEGIN:STANDARD
TZOFFSETFROM:-0600
TZOFFSETTO:-0700
TZNAME:MST
DTSTART:20251102T080000
END:STANDARD
BEGIN:DAYLIGHT
TZOFFSETFROM:-0700
TZOFFSETTO:-0600
TZNAME:MDT
DTSTART:20260308T090000
END:DAYLIGHT
BEGIN:STANDARD
TZOFFSETFROM:-0600
TZOFFSETTO:-0700
TZNAME:MST
DTSTART:20261101T080000
END:STANDARD
BEGIN:DAYLIGHT
TZOFFSETFROM:-0700
TZOFFSETTO:-0600
TZNAME:MDT
DTSTART:20270314T090000
END:DAYLIGHT
BEGIN:STANDARD
TZOFFSETFROM:-0600
TZOFFSETTO:-0700
TZNAME:MST
DTSTART:20271107T080000
END:STANDARD
END:VTIMEZONE
BEGIN:VEVENT
DTSTART;TZID=America/Denver:20260302T170000
DTEND;TZID=America/Denver:20260302T190000
DTSTAMP:20260423T121038
CREATED:20260109T175856Z
LAST-MODIFIED:20260109T175856Z
UID:5181-1772470800-1772478000@www.megcmusic.com
SUMMARY:Meghan Solo Acoustic
DESCRIPTION:Cafe Ole \n3225 S Wadsworth Blvd L\, Lakewood\, CO 80227
URL:https://www.megcmusic.com/event/meghan-solo-acoustic-6/
ATTACH;FMTTYPE=image/png:https://www.megcmusic.com/wp-content/uploads/2026/01/Black-White-Music-Event-Instagram-Post-1.png
END:VEVENT
BEGIN:VEVENT
DTSTART;TZID=America/Denver:20260221T180000
DTEND;TZID=America/Denver:20260221T210000
DTSTAMP:20260423T121038
CREATED:20260209T031249Z
LAST-MODIFIED:20260209T031249Z
UID:5299-1771696800-1771707600@www.megcmusic.com
SUMMARY:Private Event
DESCRIPTION:solo acoustic
URL:https://www.megcmusic.com/event/private-event-6/
ATTACH;FMTTYPE=image/jpeg:https://www.megcmusic.com/wp-content/uploads/2026/01/cropped-IMG_6154.jpg
END:VEVENT
BEGIN:VEVENT
DTSTART;TZID=America/Denver:20260214T160000
DTEND;TZID=America/Denver:20260215T200000
DTSTAMP:20260423T121038
CREATED:20260217T154350Z
LAST-MODIFIED:20260217T154404Z
UID:5318-1771084800-1771185600@www.megcmusic.com
SUMMARY:Solo Acoustic at American Lore
DESCRIPTION:Denver Highlands
URL:https://www.megcmusic.com/event/solo-acoustic-at-american-lore/
END:VEVENT
BEGIN:VEVENT
DTSTART;TZID=America/Denver:20260213T173000
DTEND;TZID=America/Denver:20260213T203000
DTSTAMP:20260423T121038
CREATED:20260109T175037Z
LAST-MODIFIED:20260109T175321Z
UID:5176-1771003800-1771014600@www.megcmusic.com
SUMMARY:Meg & Mark
DESCRIPTION:at Junction Food & Drink \nColorado and I-25
URL:https://www.megcmusic.com/event/meg-mark/
ATTACH;FMTTYPE=image/jpeg:https://www.megcmusic.com/wp-content/uploads/2024/06/website-scaled.jpg
END:VEVENT
BEGIN:VEVENT
DTSTART;TZID=America/Denver:20260202T170000
DTEND;TZID=America/Denver:20260202T190000
DTSTAMP:20260423T121038
CREATED:20260109T175734Z
LAST-MODIFIED:20260109T175734Z
UID:5178-1770051600-1770058800@www.megcmusic.com
SUMMARY:Meghan Solo Acoustic
DESCRIPTION:Cafe Ole \n3225 S Wadsworth Blvd L\, Lakewood\, CO 80227
URL:https://www.megcmusic.com/event/meghan-solo-acoustic-5/
ATTACH;FMTTYPE=image/png:https://www.megcmusic.com/wp-content/uploads/2026/01/Black-White-Music-Event-Instagram-Post-1.png
END:VEVENT
BEGIN:VEVENT
DTSTART;TZID=America/Denver:20260124T200000
DTEND;TZID=America/Denver:20260124T233000
DTSTAMP:20260423T121038
CREATED:20251223T162936Z
LAST-MODIFIED:20251223T162936Z
UID:5112-1769284800-1769297400@www.megcmusic.com
SUMMARY:with Uncovered Band
DESCRIPTION:Holiday Bar \n403 Bear Creek Ave\, Morrison\, CO 80465 \n 
URL:https://www.megcmusic.com/event/with-uncovered-band/
ATTACH;FMTTYPE=image/jpeg:https://www.megcmusic.com/wp-content/uploads/2024/12/466069868_10109101788415043_7379990292390884209_n.jpg
END:VEVENT
BEGIN:VEVENT
DTSTART;TZID=America/Denver:20260105T170000
DTEND;TZID=America/Denver:20260105T190000
DTSTAMP:20260423T121038
CREATED:20251230T205942Z
LAST-MODIFIED:20251230T205942Z
UID:5127-1767632400-1767639600@www.megcmusic.com
SUMMARY:Meghan Clarisse Solo Acoustic
DESCRIPTION:Cafe Ole \n3225 S Wadsworth Blvd L\, Lakewood\, CO 80227
URL:https://www.megcmusic.com/event/meghan-clarisse-solo-acoustic/
ATTACH;FMTTYPE=image/jpeg:https://www.megcmusic.com/wp-content/uploads/2024/06/cropped-website-scaled-1.jpg
END:VEVENT
BEGIN:VEVENT
DTSTART;TZID=America/Denver:20260102T180000
DTEND;TZID=America/Denver:20260102T210000
DTSTAMP:20260423T121038
CREATED:20251223T161926Z
LAST-MODIFIED:20251223T161926Z
UID:5103-1767376800-1767387600@www.megcmusic.com
SUMMARY:Meghan Clarisse Duo
DESCRIPTION:Ute Lodge Bar & Grill \n204 W Midland Ave\, Woodland Park\, CO 80863
URL:https://www.megcmusic.com/event/meghan-clarisse-duo/
ATTACH;FMTTYPE=image/png:https://www.megcmusic.com/wp-content/uploads/2025/12/images.png
END:VEVENT
BEGIN:VEVENT
DTSTART;TZID=America/Denver:20251222T180000
DTEND;TZID=America/Denver:20251222T200000
DTSTAMP:20260423T121038
CREATED:20251107T202415Z
LAST-MODIFIED:20251107T202415Z
UID:4912-1766426400-1766433600@www.megcmusic.com
SUMMARY:MOC Volunteer Shift
DESCRIPTION:at the Veterans Affairs Hospital
URL:https://www.megcmusic.com/event/moc-volunteer-shift-2/
ATTACH;FMTTYPE=image/jpeg:https://www.megcmusic.com/wp-content/uploads/2024/04/download.jpg
END:VEVENT
BEGIN:VEVENT
DTSTART;TZID=America/Denver:20251220T160000
DTEND;TZID=America/Denver:20251220T180000
DTSTAMP:20260423T121038
CREATED:20251102T014817Z
LAST-MODIFIED:20251102T014817Z
UID:4881-1766246400-1766253600@www.megcmusic.com
SUMMARY:Holiday Show at Old 121
DESCRIPTION:With Meg & Mark
URL:https://www.megcmusic.com/event/holiday-show-at-old-121/
ATTACH;FMTTYPE=image/jpeg:https://www.megcmusic.com/wp-content/uploads/2025/02/IMG_6074.jpg
END:VEVENT
BEGIN:VEVENT
DTSTART;TZID=America/Denver:20251218T183000
DTEND;TZID=America/Denver:20251218T213000
DTSTAMP:20260423T121038
CREATED:20250814T025007Z
LAST-MODIFIED:20250814T025007Z
UID:4548-1766082600-1766093400@www.megcmusic.com
SUMMARY:Private Event with Uncovered
DESCRIPTION:
URL:https://www.megcmusic.com/event/private-event-with-uncovered-2/
ATTACH;FMTTYPE=image/jpeg:https://www.megcmusic.com/wp-content/uploads/2024/12/466069868_10109101788415043_7379990292390884209_n.jpg
END:VEVENT
BEGIN:VEVENT
DTSTART;TZID=America/Denver:20251217T190000
DTEND;TZID=America/Denver:20251217T200000
DTSTAMP:20260423T121038
CREATED:20251202T210741Z
LAST-MODIFIED:20251202T210741Z
UID:5011-1765998000-1766001600@www.megcmusic.com
SUMMARY:Live Music Yoga
DESCRIPTION:Hot Power Fusion with Angie K \nat Belmar Core Power \n7349 W Alaska Dr\, Lakewood\, CO 80226
URL:https://www.megcmusic.com/event/live-music-yoga-24/
ATTACH;FMTTYPE=image/jpeg:https://www.megcmusic.com/wp-content/uploads/2023/02/IMG_0601-rotated.jpg
END:VEVENT
BEGIN:VEVENT
DTSTART;TZID=America/Denver:20251216T180000
DTEND;TZID=America/Denver:20251216T200000
DTSTAMP:20260423T121038
CREATED:20251107T202156Z
LAST-MODIFIED:20251107T202156Z
UID:4910-1765908000-1765915200@www.megcmusic.com
SUMMARY:MOC Volunteer Shift
DESCRIPTION:at The Veterans Affairs Hospital
URL:https://www.megcmusic.com/event/moc-volunteer-shift/
ATTACH;FMTTYPE=image/jpeg:https://www.megcmusic.com/wp-content/uploads/2024/04/download.jpg
END:VEVENT
BEGIN:VEVENT
DTSTART;TZID=America/Denver:20251214T093000
DTEND;TZID=America/Denver:20251214T110000
DTSTAMP:20260423T121038
CREATED:20250516T160206Z
LAST-MODIFIED:20251118T173847Z
UID:4165-1765704600-1765710000@www.megcmusic.com
SUMMARY:Live Music Yoga
DESCRIPTION:Holiday edition \n9:30am \nYoga Mayhem \n404 Broadway\, Denver\, CO 80203
URL:https://www.megcmusic.com/event/live-music-yoga-21/
ATTACH;FMTTYPE=image/jpeg:https://www.megcmusic.com/wp-content/uploads/2023/02/IMG_0601-rotated.jpg
END:VEVENT
BEGIN:VEVENT
DTSTART;TZID=America/Denver:20251212T210000
DTEND;TZID=America/Denver:20251212T230000
DTSTAMP:20260423T121038
CREATED:20251107T203029Z
LAST-MODIFIED:20251107T203029Z
UID:4916-1765573200-1765580400@www.megcmusic.com
SUMMARY:Songwriter Showcase
DESCRIPTION:20-30 minute set with other songwriters at Frisky’s in Colorado Springs \n103 S Wahsatch Ave\, Colorado Springs \nTickets are $15 -link coming soon \n 
URL:https://www.megcmusic.com/event/songwriter-showcase/
ATTACH;FMTTYPE=image/jpeg:https://www.megcmusic.com/wp-content/uploads/2024/06/website-2-scaled.jpg
END:VEVENT
BEGIN:VEVENT
DTSTART;TZID=America/Denver:20251209T200000
DTEND;TZID=America/Denver:20251209T220000
DTSTAMP:20260423T121038
CREATED:20251107T202811Z
LAST-MODIFIED:20251107T202811Z
UID:4914-1765310400-1765317600@www.megcmusic.com
SUMMARY:MOC Volunteer Shift
DESCRIPTION:at Children’s Hospital
URL:https://www.megcmusic.com/event/moc-volunteer-shift-3/
ATTACH;FMTTYPE=image/jpeg:https://www.megcmusic.com/wp-content/uploads/2024/04/download.jpg
END:VEVENT
BEGIN:VEVENT
DTSTART;TZID=America/Denver:20251206T140000
DTEND;TZID=America/Denver:20251206T160000
DTSTAMP:20260423T121038
CREATED:20251102T014256Z
LAST-MODIFIED:20251102T014256Z
UID:4879-1765029600-1765036800@www.megcmusic.com
SUMMARY:Old 121 Brewery New Location Grand Opening
DESCRIPTION:Join us for a fun celebration!  Meg and Mark will play all of your favorite tunes
URL:https://www.megcmusic.com/event/old-121-brewery-new-location-grand-opening/
ATTACH;FMTTYPE=image/jpeg:https://www.megcmusic.com/wp-content/uploads/2025/02/IMG_6075-e1758848680522.jpg
END:VEVENT
BEGIN:VEVENT
DTSTART;TZID=America/Denver:20251201T170000
DTEND;TZID=America/Denver:20251201T190000
DTSTAMP:20260423T121038
CREATED:20250926T013244Z
LAST-MODIFIED:20250926T013244Z
UID:4778-1764608400-1764615600@www.megcmusic.com
SUMMARY:Solo Acoustic
DESCRIPTION:Cafe Ole in Lakewood\, CO
URL:https://www.megcmusic.com/event/solo-acoustic-4/
ATTACH;FMTTYPE=image/jpeg:https://www.megcmusic.com/wp-content/uploads/2024/06/IMG_0969.jpg
END:VEVENT
BEGIN:VEVENT
DTSTART;TZID=America/Denver:20251128T170000
DTEND;TZID=America/Denver:20251128T193000
DTSTAMP:20260423T121038
CREATED:20251121T015709Z
LAST-MODIFIED:20251121T015709Z
UID:4955-1764349200-1764358200@www.megcmusic.com
SUMMARY:Solo Show
DESCRIPTION:Ambler \n1801 Wewatta Street\, Denver \n 
URL:https://www.megcmusic.com/event/solo-show/
ATTACH;FMTTYPE=image/jpeg:https://www.megcmusic.com/wp-content/uploads/2024/04/moab-1-scaled.jpg
END:VEVENT
BEGIN:VEVENT
DTSTART;TZID=America/Denver:20251121T080000
DTEND;TZID=America/Denver:20251121T170000
DTSTAMP:20260423T121038
CREATED:20250926T005712Z
LAST-MODIFIED:20250926T005712Z
UID:4760-1763712000-1763744400@www.megcmusic.com
SUMMARY:Album Release Show
DESCRIPTION:Shadows of a Ghost Town Release Show \nSociety Hall\, Alamosa\, CO \nDetails for tickets TBA
URL:https://www.megcmusic.com/event/album-release-show/
ATTACH;FMTTYPE=image/png:https://www.megcmusic.com/wp-content/uploads/2025/07/Shadows-of-a-Ghost-Town-Cover-1.png
END:VEVENT
BEGIN:VEVENT
DTSTART;TZID=America/Denver:20251114T180000
DTEND;TZID=America/Denver:20251114T210000
DTSTAMP:20260423T121038
CREATED:20250926T010509Z
LAST-MODIFIED:20250926T010509Z
UID:4770-1763143200-1763154000@www.megcmusic.com
SUMMARY:Meghan & Mark Duo
DESCRIPTION:Junction Food and Drink
URL:https://www.megcmusic.com/event/meghan-mark-duo-4/
ATTACH;FMTTYPE=image/jpeg:https://www.megcmusic.com/wp-content/uploads/2025/02/IMG_6075-e1758848680522.jpg
END:VEVENT
BEGIN:VEVENT
DTSTART;TZID=America/Denver:20251109T140000
DTEND;TZID=America/Denver:20251109T180000
DTSTAMP:20260423T121038
CREATED:20250926T010245Z
LAST-MODIFIED:20250926T010245Z
UID:4767-1762696800-1762711200@www.megcmusic.com
SUMMARY:Ladies of Country Music
DESCRIPTION:$10 cover \nWild Goose Saloon \n11160 S Pikes Peak Dr\, Parker\, CO 80138
URL:https://www.megcmusic.com/event/ladies-of-country-music/
ATTACH;FMTTYPE=image/jpeg:https://www.megcmusic.com/wp-content/uploads/2025/09/540769642_1319570709797039_1149324150281884213_n.jpg
END:VEVENT
BEGIN:VEVENT
DTSTART;TZID=America/Denver:20251107T180000
DTEND;TZID=America/Denver:20251107T210000
DTSTAMP:20260423T121038
CREATED:20250826T200726Z
LAST-MODIFIED:20251106T210136Z
UID:4646-1762538400-1762549200@www.megcmusic.com
SUMMARY:With Uncovered at 3070
DESCRIPTION:10251 W Bowles Ave unit c\, Littleton\, CO 80127
URL:https://www.megcmusic.com/event/with-uncovered-at-3070/
ATTACH;FMTTYPE=image/jpeg:https://www.megcmusic.com/wp-content/uploads/2024/12/466069868_10109101788415043_7379990292390884209_n.jpg
END:VEVENT
BEGIN:VEVENT
DTSTART;TZID=America/Denver:20251103T170000
DTEND;TZID=America/Denver:20251103T190000
DTSTAMP:20260423T121038
CREATED:20250926T013130Z
LAST-MODIFIED:20250926T013130Z
UID:4776-1762189200-1762196400@www.megcmusic.com
SUMMARY:Solo Acoustic
DESCRIPTION:Cafe Ole in Lakewood\, CO
URL:https://www.megcmusic.com/event/solo-acoustic-3/
ATTACH;FMTTYPE=image/jpeg:https://www.megcmusic.com/wp-content/uploads/2024/06/IMG_0969.jpg
END:VEVENT
BEGIN:VEVENT
DTSTART;TZID=America/Denver:20251025T190000
DTEND;TZID=America/Denver:20251025T220000
DTSTAMP:20260423T121038
CREATED:20250926T010028Z
LAST-MODIFIED:20250926T010028Z
UID:4764-1761418800-1761429600@www.megcmusic.com
SUMMARY:Mountain West Country Music Association Awards Show
DESCRIPTION:Tickets here:  https://www.eventbrite.com/e/2025-mountain-west-country-music-awards-tickets-1413313732419?aff=oddtdtcreator
URL:https://www.megcmusic.com/event/mountain-west-country-music-association-awards-show/
ATTACH;FMTTYPE=image/jpeg:https://www.megcmusic.com/wp-content/uploads/2025/09/download.jpg
END:VEVENT
BEGIN:VEVENT
DTSTART;TZID=America/Denver:20251018T190000
DTEND;TZID=America/Denver:20251018T210000
DTSTAMP:20260423T121038
CREATED:20250926T005815Z
LAST-MODIFIED:20250926T005815Z
UID:4762-1760814000-1760821200@www.megcmusic.com
SUMMARY:Sing Me A Story Event
DESCRIPTION:https://singmeastory.org/
URL:https://www.megcmusic.com/event/sing-me-a-story-event/
END:VEVENT
BEGIN:VEVENT
DTSTART;TZID=America/Denver:20251017T180000
DTEND;TZID=America/Denver:20251017T220000
DTSTAMP:20260423T121040
CREATED:20250731T185114Z
LAST-MODIFIED:20250731T185114Z
UID:4498-1760724000-1760738400@www.megcmusic.com
SUMMARY:Opening Set for Shadow Animals Album Release Show
DESCRIPTION:Details TBA \n 
URL:https://www.megcmusic.com/event/opening-set-for-shadow-animals-album-release-show/
END:VEVENT
BEGIN:VEVENT
DTSTART;TZID=America/Denver:20251014T180000
DTEND;TZID=America/Denver:20251014T200000
DTSTAMP:20260423T121040
CREATED:20250926T010931Z
LAST-MODIFIED:20250926T010931Z
UID:4774-1760464800-1760472000@www.megcmusic.com
SUMMARY:Musicians on Call
DESCRIPTION:
URL:https://www.megcmusic.com/event/musicians-on-call-3/
ATTACH;FMTTYPE=image/jpeg:https://www.megcmusic.com/wp-content/uploads/2024/04/download.jpg
END:VEVENT
BEGIN:VEVENT
DTSTART;TZID=America/Denver:20250919T180000
DTEND;TZID=America/Denver:20250919T210000
DTSTAMP:20260423T121040
CREATED:20250814T025653Z
LAST-MODIFIED:20250819T180929Z
UID:4554-1758304800-1758315600@www.megcmusic.com
SUMMARY:Duo with Mark
DESCRIPTION:Join us at the Junction in Colorado Center \n2000 South Colorado Blvd \nDenver 80222
URL:https://www.megcmusic.com/event/duo-event/
ATTACH;FMTTYPE=image/jpeg:https://www.megcmusic.com/wp-content/uploads/2025/08/Junctionsept-1.jpeg
END:VEVENT
BEGIN:VEVENT
DTSTART;TZID=America/Denver:20250908T160000
DTEND;TZID=America/Denver:20250908T170000
DTSTAMP:20260423T121040
CREATED:20250807T155228Z
LAST-MODIFIED:20250814T025304Z
UID:4528-1757347200-1757350800@www.megcmusic.com
SUMMARY:Live Music Yoga
DESCRIPTION:Join us at the Littleton Core Power Studio at 4:15pm for Hot Power Fusion with Loretta and music by Meghan
URL:https://www.megcmusic.com/event/live-music-yoga-23/
ATTACH;FMTTYPE=image/jpeg:https://www.megcmusic.com/wp-content/uploads/2022/04/kirtan.jpg
END:VEVENT
END:VCALENDAR