BEGIN:VCALENDAR
VERSION:2.0
PRODID:-//Meghan Clarisse Cave - ECPv6.15.20//NONSGML v1.0//EN
CALSCALE:GREGORIAN
METHOD:PUBLISH
X-ORIGINAL-URL:https://www.megcmusic.com
X-WR-CALDESC:Events for Meghan Clarisse Cave
REFRESH-INTERVAL;VALUE=DURATION:PT1H
X-Robots-Tag:noindex
X-PUBLISHED-TTL:PT1H
BEGIN:VTIMEZONE
TZID:America/Denver
BEGIN:DAYLIGHT
TZOFFSETFROM:-0700
TZOFFSETTO:-0600
TZNAME:MDT
DTSTART:20220313T090000
END:DAYLIGHT
BEGIN:STANDARD
TZOFFSETFROM:-0600
TZOFFSETTO:-0700
TZNAME:MST
DTSTART:20221106T080000
END:STANDARD
BEGIN:DAYLIGHT
TZOFFSETFROM:-0700
TZOFFSETTO:-0600
TZNAME:MDT
DTSTART:20230312T090000
END:DAYLIGHT
BEGIN:STANDARD
TZOFFSETFROM:-0600
TZOFFSETTO:-0700
TZNAME:MST
DTSTART:20231105T080000
END:STANDARD
BEGIN:DAYLIGHT
TZOFFSETFROM:-0700
TZOFFSETTO:-0600
TZNAME:MDT
DTSTART:20240310T090000
END:DAYLIGHT
BEGIN:STANDARD
TZOFFSETFROM:-0600
TZOFFSETTO:-0700
TZNAME:MST
DTSTART:20241103T080000
END:STANDARD
BEGIN:DAYLIGHT
TZOFFSETFROM:-0700
TZOFFSETTO:-0600
TZNAME:MDT
DTSTART:20250309T090000
END:DAYLIGHT
BEGIN:STANDARD
TZOFFSETFROM:-0600
TZOFFSETTO:-0700
TZNAME:MST
DTSTART:20251102T080000
END:STANDARD
END:VTIMEZONE
BEGIN:VEVENT
DTSTART;TZID=America/Denver:20240406T193000
DTEND;TZID=America/Denver:20240406T233000
DTSTAMP:20260424T104114
CREATED:20240119T075153Z
LAST-MODIFIED:20240321T025727Z
UID:3002-1712431800-1712446200@www.megcmusic.com
SUMMARY:Meghan & Her Cavemen at The Little Bear
DESCRIPTION:Come dance to your favorite covers and originals \n28075 CO-74\, Evergreen\, CO 80439
URL:https://www.megcmusic.com/event/meghan-her-cavemen-at-the-little-bear/
ATTACH;FMTTYPE=image/jpeg:https://www.megcmusic.com/wp-content/uploads/2023/12/thumbnail-4.jpg
END:VEVENT
BEGIN:VEVENT
DTSTART;TZID=America/Denver:20240330T100000
DTEND;TZID=America/Denver:20240330T130000
DTSTAMP:20260424T104114
CREATED:20231221T113848Z
LAST-MODIFIED:20240321T025802Z
UID:2924-1711792800-1711803600@www.megcmusic.com
SUMMARY:Meg & The Old Man at Taliesin West
DESCRIPTION:Join us in Scottsdale Arizona at the famous winter home of Frank Lloyd Wright \n12621 N Frank Lloyd Wright Blvd\, Scottsdale\, AZ 85259
URL:https://www.megcmusic.com/event/meg-the-old-man-at-taliesin-west/
ATTACH;FMTTYPE=image/jpeg:https://www.megcmusic.com/wp-content/uploads/2023/12/340830209_876230213478155_2036235356145776448_n.jpg
END:VEVENT
BEGIN:VEVENT
DTSTART;TZID=America/Denver:20240321T110927
DTEND;TZID=America/Denver:20240321T110927
DTSTAMP:20260424T104114
CREATED:20220325T203219Z
LAST-MODIFIED:20220325T203219Z
UID:600-1711019367-1711019367@www.megcmusic.com
SUMMARY:Live at Roots
DESCRIPTION:1200 Miramonte St\, Broomfield\, CO 80020
URL:https://www.megcmusic.com/event/live-at-roots/
END:VEVENT
BEGIN:VEVENT
DTSTART;TZID=America/Denver:20240317T080000
DTEND;TZID=America/Denver:20240317T110000
DTSTAMP:20260424T104114
CREATED:20240208T050646Z
LAST-MODIFIED:20240208T050646Z
UID:3032-1710662400-1710673200@www.megcmusic.com
SUMMARY:Colorado Country Music Hall of Fame Women of Country Music
DESCRIPTION:Join us for this one of a kind all star show! \nPerformances by: \nMeghan Clarisse   2024 Nominee for Female Vocalist of the Year\nLori Roop   2023  Newcomer of the Year\nShaunda Fry  Long Time Colorado Vocalist\nKaren Osburn  2007  Entertainer of the Decade\nLauren Michaels  2021 Female Vocalist of the Year\nAndi Weber   2022 Female Vocalist of the Year\nKelsey Jo  2023 Female Vocalist of the Year\n\n\nThe All Star Band includes:\n\nJodie Woodward on Bass\nMark Gabert on Guitar\nKevin Thomas on Drums\n\nat Dougie G’s 10217 Quivas St\, Thornton\, CO 80260
URL:https://www.megcmusic.com/event/colorado-country-music-hall-of-fame-women-of-country-music/
ATTACH;FMTTYPE=image/jpeg:https://www.megcmusic.com/wp-content/uploads/2024/02/a-poster.jpg
END:VEVENT
BEGIN:VEVENT
DTSTART;TZID=America/Denver:20240213T120000
DTEND;TZID=America/Denver:20240213T130000
DTSTAMP:20260424T104114
CREATED:20240212T021426Z
LAST-MODIFIED:20240212T021426Z
UID:3039-1707825600-1707829200@www.megcmusic.com
SUMMARY:Live Music Yoga
DESCRIPTION:Angie K teaches and Meghan C plays \nBelmar Core Power \n7349 W Alaska Dr\, Lakewood\, CO 80226
URL:https://www.megcmusic.com/event/live-music-yoga-15/
ATTACH;FMTTYPE=image/jpeg:https://www.megcmusic.com/wp-content/uploads/2024/02/426397521_1090832785564328_4930059490352298_n.jpg
END:VEVENT
BEGIN:VEVENT
DTSTART;TZID=America/Denver:20240207T130000
DTEND;TZID=America/Denver:20240207T160000
DTSTAMP:20260424T104114
CREATED:20240118T000229Z
LAST-MODIFIED:20240127T045238Z
UID:3000-1707310800-1707321600@www.megcmusic.com
SUMMARY:Meg & The Old Man at the Velvet Elk
DESCRIPTION:Join Meghan & Steve in Boulder for a night of great live music at The Velvet Elk \n2037 13th St\, Boulder\, CO 80302
URL:https://www.megcmusic.com/event/meg-the-old-man-10/
ATTACH;FMTTYPE=image/jpeg:https://www.megcmusic.com/wp-content/uploads/2023/12/thumbnail-3.jpg
END:VEVENT
BEGIN:VEVENT
DTSTART;TZID=America/Denver:20240202T130000
DTEND;TZID=America/Denver:20240202T163000
DTSTAMP:20260424T104114
CREATED:20240122T034643Z
LAST-MODIFIED:20240122T034643Z
UID:3010-1706878800-1706891400@www.megcmusic.com
SUMMARY:Meghan & Her Cavemen at Fraco's
DESCRIPTION:Come see us at a great venue!  Fraco’s \n5302 S Federal Cir # A\, Littleton\, CO 80123
URL:https://www.megcmusic.com/event/meghan-her-cavemen-at-fracos/
ATTACH;FMTTYPE=image/jpeg:https://www.megcmusic.com/wp-content/uploads/2023/12/thumbnail-4.jpg
END:VEVENT
BEGIN:VEVENT
DTSTART;TZID=America/Denver:20240126T110000
DTEND;TZID=America/Denver:20240126T140000
DTSTAMP:20260424T104114
CREATED:20231228T053933Z
LAST-MODIFIED:20231228T053933Z
UID:2983-1706266800-1706277600@www.megcmusic.com
SUMMARY:Meg & The Old Man at Inga's
DESCRIPTION:Come join the Old Man and me at Inga’s Alpine Tavern \nFriday January 26th \n5151 Leetsdale Dr \nDenver\, CO
URL:https://www.megcmusic.com/event/meg-the-old-man-at-ingas-2/
ATTACH;FMTTYPE=image/jpeg:https://www.megcmusic.com/wp-content/uploads/2023/12/thumbnail-3.jpg
END:VEVENT
BEGIN:VEVENT
DTSTART;TZID=America/Denver:20231214T120000
DTEND;TZID=America/Denver:20231214T140000
DTSTAMP:20260424T104114
CREATED:20231109T031417Z
LAST-MODIFIED:20231109T031417Z
UID:2908-1702555200-1702562400@www.megcmusic.com
SUMMARY:Christmas at Brewery Rickoli
DESCRIPTION:Join us – Jack Hadley\, Joe Oeser\, Valerie Bhat and myself for a fun evening of holiday tunes!
URL:https://www.megcmusic.com/event/christmas-at-brewery-rickoli/
ATTACH;FMTTYPE=image/jpeg:https://www.megcmusic.com/wp-content/uploads/2023/06/empty-pint-955413c1ab8908d6998e48fdb4ab2458a28f20aba7287e7dcc728f4f67735533.jpg
END:VEVENT
BEGIN:VEVENT
DTSTART;TZID=America/Denver:20231114T090000
DTEND;TZID=America/Denver:20231114T100000
DTSTAMP:20260424T104114
CREATED:20231029T215131Z
LAST-MODIFIED:20231029T215131Z
UID:2903-1699952400-1699956000@www.megcmusic.com
SUMMARY:Live Music Yoga
DESCRIPTION:Join Mary Katherine’s Hot Power Fusion class with live music 4pm \nBelmar Core Power \n7349 W Alaska Dr\, Lakewood\, CO 80226
URL:https://www.megcmusic.com/event/live-music-yoga-14/
ATTACH;FMTTYPE=image/png:https://www.megcmusic.com/wp-content/uploads/2023/01/cropped-Songs-From-The-Sofa_Cover_Social.png
END:VEVENT
BEGIN:VEVENT
DTSTART;TZID=America/Denver:20231008T090000
DTEND;TZID=America/Denver:20231008T100000
DTSTAMP:20260424T104114
CREATED:20230626T230626Z
LAST-MODIFIED:20230626T230626Z
UID:2778-1696755600-1696759200@www.megcmusic.com
SUMMARY:Meghan & Her Cavemen & Lakewood Cider Days
DESCRIPTION:Join us at Lakewood Cider Days at Belmar Park
URL:https://www.megcmusic.com/event/meghan-her-cavemen-lakewood-cider-days/
ATTACH;FMTTYPE=image/jpeg:https://www.megcmusic.com/wp-content/uploads/2023/02/meghan-and-her-cavemen-2.jpg
END:VEVENT
BEGIN:VEVENT
DTSTART;TZID=America/Denver:20231007T090000
DTEND;TZID=America/Denver:20231007T100000
DTSTAMP:20260424T104114
CREATED:20230626T230419Z
LAST-MODIFIED:20230626T230419Z
UID:2776-1696669200-1696672800@www.megcmusic.com
SUMMARY:Meghan & Her Cavemen at Lakewood Cider Days
DESCRIPTION:Join us at Lakewood Cider days at Belmar Park!
URL:https://www.megcmusic.com/event/meghan-her-cavemen-at-lakewood-cider-days/
ATTACH;FMTTYPE=image/jpeg:https://www.megcmusic.com/wp-content/uploads/2023/02/meghan-and-her-cavemen-2.jpg
END:VEVENT
BEGIN:VEVENT
DTSTART;TZID=America/Denver:20230917T040000
DTEND;TZID=America/Denver:20230917T060000
DTSTAMP:20260424T104114
CREATED:20230704T203900Z
LAST-MODIFIED:20230704T203900Z
UID:2786-1694923200-1694930400@www.megcmusic.com
SUMMARY:Meg & The Old Man at Legacy Ridge
DESCRIPTION:Join us at the Legacy Ridge Golf Course Grill 10am – 12pm \n10801 Legacy Ridge Pkwy\, Westminster\, CO 80031
URL:https://www.megcmusic.com/event/meg-the-old-man-at-legacy-ridge/
ATTACH;FMTTYPE=image/jpeg:https://www.megcmusic.com/wp-content/uploads/2022/05/steve-1.jpg
END:VEVENT
BEGIN:VEVENT
DTSTART;TZID=America/Denver:20230916T120000
DTEND;TZID=America/Denver:20230916T140000
DTSTAMP:20260424T104114
CREATED:20230603T002853Z
LAST-MODIFIED:20230603T002853Z
UID:2747-1694865600-1694872800@www.megcmusic.com
SUMMARY:Songwriter Round at Brewery Rickoli
DESCRIPTION:Join Meghan\, Joe Oeser and Steve Jourdan for an evening of original songs \n4335 Wadsworth Blvd\, Wheat Ridge\, CO 80033
URL:https://www.megcmusic.com/event/songwriter-round-at-brewery-rickoli/
ATTACH;FMTTYPE=image/jpeg:https://www.megcmusic.com/wp-content/uploads/2023/06/empty-pint-955413c1ab8908d6998e48fdb4ab2458a28f20aba7287e7dcc728f4f67735533.jpg
END:VEVENT
BEGIN:VEVENT
DTSTART;TZID=America/Denver:20230915T120000
DTEND;TZID=America/Denver:20230915T140000
DTSTAMP:20260424T104114
CREATED:20230907T053930Z
LAST-MODIFIED:20230907T053930Z
UID:2869-1694779200-1694786400@www.megcmusic.com
SUMMARY:Solo Acoustic - Private Event
DESCRIPTION:
URL:https://www.megcmusic.com/event/solo-acoustic-private-event/
ATTACH;FMTTYPE=image/jpeg:https://www.megcmusic.com/wp-content/uploads/2022/04/MeghanHorse_143-small-2.jpg
END:VEVENT
BEGIN:VEVENT
DTSTART;TZID=America/Denver:20230909T100000
DTEND;TZID=America/Denver:20230909T130000
DTSTAMP:20260424T104114
CREATED:20230814T072444Z
LAST-MODIFIED:20230814T235800Z
UID:2838-1694253600-1694264400@www.megcmusic.com
SUMMARY:Meghan & Her Cavemen at GMBC Oktoberfest
DESCRIPTION:Come join us at the best brewery in town!  The Green Mountain Beer Company \n2585 S Lewis Way #110\, Lakewood\, CO 80227 \n5pm – 8pm
URL:https://www.megcmusic.com/event/meghan-her-cavemen-at-gmbc-oktoberfest/
ATTACH;FMTTYPE=image/jpeg:https://www.megcmusic.com/wp-content/uploads/2023/02/meghan-and-her-cavemen-2.jpg
END:VEVENT
BEGIN:VEVENT
DTSTART;TZID=America/Denver:20230908T120000
DTEND;TZID=America/Denver:20230908T160000
DTSTAMP:20260424T104114
CREATED:20230318T221427Z
LAST-MODIFIED:20230318T221427Z
UID:2619-1694174400-1694188800@www.megcmusic.com
SUMMARY:Meghan & Her Cavemen at Sit n Bull Saloon
DESCRIPTION:5450 S Parmalee Gulch Rd\, Indian Hills\, CO 80454
URL:https://www.megcmusic.com/event/meghan-her-cavemen-at-sit-n-bull-saloon-2/
ATTACH;FMTTYPE=image/jpeg:https://www.megcmusic.com/wp-content/uploads/2023/03/336017999_3331863613729674_5081503106582972747_n.jpg
END:VEVENT
BEGIN:VEVENT
DTSTART;TZID=America/Denver:20230903T080000
DTEND;TZID=America/Denver:20230903T110000
DTSTAMP:20260424T104114
CREATED:20230826T043946Z
LAST-MODIFIED:20230826T043946Z
UID:2853-1693728000-1693738800@www.megcmusic.com
SUMMARY:Meg & The Old Man at The Rock Rest
DESCRIPTION:16005 Mt Vernon Rd\, Golden\, CO 80401
URL:https://www.megcmusic.com/event/meg-the-old-man-at-the-rock-rest-4/
ATTACH;FMTTYPE=image/jpeg:https://www.megcmusic.com/wp-content/uploads/2023/05/dscf9623.jpg
END:VEVENT
BEGIN:VEVENT
DTSTART;TZID=America/Denver:20230831T140000
DTEND;TZID=America/Denver:20230831T170000
DTSTAMP:20260424T104114
CREATED:20230502T102709Z
LAST-MODIFIED:20230713T233911Z
UID:2701-1693490400-1693501200@www.megcmusic.com
SUMMARY:Meg & The Old Man at The WoodCellar
DESCRIPTION:at The Wood Cellar in Evergreen
URL:https://www.megcmusic.com/event/meg-the-old-man-9/
ATTACH;FMTTYPE=image/jpeg:https://www.megcmusic.com/wp-content/uploads/2023/02/meghan-and-steve.jpg
END:VEVENT
BEGIN:VEVENT
DTSTART;TZID=America/Denver:20230825T120000
DTEND;TZID=America/Denver:20230825T150000
DTSTAMP:20260424T104114
CREATED:20230821T020350Z
LAST-MODIFIED:20230826T031549Z
UID:2845-1692964800-1692975600@www.megcmusic.com
SUMMARY:CANCELLED DUE TO WEATHER Meghan & Her Cavemen at Inga's Alpine Tavern
DESCRIPTION:5151 Leetsdale Dr\, Denver\, CO 80246
URL:https://www.megcmusic.com/event/meghan-her-cavemen-at-ingas-alpine-tavern-2/
ATTACH;FMTTYPE=image/jpeg:https://www.megcmusic.com/wp-content/uploads/2023/08/366005817_979106673403607_1362922950910535651_n.jpg
END:VEVENT
BEGIN:VEVENT
DTSTART;TZID=America/Denver:20230819T080000
DTEND;TZID=America/Denver:20230819T110000
DTSTAMP:20260424T104114
CREATED:20230225T072019Z
LAST-MODIFIED:20230406T224923Z
UID:2578-1692432000-1692442800@www.megcmusic.com
SUMMARY:Meg & The Old Man at Rock Rest
DESCRIPTION:16005 Mt Vernon Rd\, Golden\, CO 80401
URL:https://www.megcmusic.com/event/meg-the-old-man-at-rock-rest-4/
ATTACH;FMTTYPE=image/jpeg:https://www.megcmusic.com/wp-content/uploads/2023/02/meghan-and-steve.jpg
END:VEVENT
BEGIN:VEVENT
DTSTART;TZID=America/Denver:20230818T120000
DTEND;TZID=America/Denver:20230818T143000
DTSTAMP:20260424T104114
CREATED:20230330T205925Z
LAST-MODIFIED:20230330T205925Z
UID:2647-1692360000-1692369000@www.megcmusic.com
SUMMARY:Trio at iPie!
DESCRIPTION:Join Valerie Bhat\, Michelle Castillo & me with Joe Oeser backing us up at the WheatRidge iPie:  5807 W 38th Ave\, Wheat Ridge\, CO 80212
URL:https://www.megcmusic.com/event/trio-at-ipie-7/
ATTACH;FMTTYPE=image/jpeg:https://www.megcmusic.com/wp-content/uploads/2022/08/download.jpg
END:VEVENT
BEGIN:VEVENT
DTSTART;TZID=America/Denver:20230805T130000
DTEND;TZID=America/Denver:20230805T160000
DTSTAMP:20260424T104114
CREATED:20230722T221354Z
LAST-MODIFIED:20230722T221354Z
UID:2815-1691240400-1691251200@www.megcmusic.com
SUMMARY:Private Event Fundraiser
DESCRIPTION:
URL:https://www.megcmusic.com/event/private-event-fundraiser/
ATTACH;FMTTYPE=image/png:https://www.megcmusic.com/wp-content/uploads/2023/01/cropped-Songs-From-The-Sofa_Cover_Social.png
END:VEVENT
BEGIN:VEVENT
DTSTART;TZID=America/Denver:20230804T120000
DTEND;TZID=America/Denver:20230804T160000
DTSTAMP:20260424T104114
CREATED:20230318T221043Z
LAST-MODIFIED:20230318T221043Z
UID:2616-1691150400-1691164800@www.megcmusic.com
SUMMARY:Meghan & Her Cavemen at Sit n Bull Saloon
DESCRIPTION:5450 S Parmalee Gulch Rd\, Indian Hills\, CO 80454
URL:https://www.megcmusic.com/event/meghan-her-cavemen-at-sit-n-bull-saloon/
ATTACH;FMTTYPE=image/jpeg:https://www.megcmusic.com/wp-content/uploads/2023/03/336017999_3331863613729674_5081503106582972747_n.jpg
END:VEVENT
BEGIN:VEVENT
DTSTART;TZID=America/Denver:20230726T120000
DTEND;TZID=America/Denver:20230726T140000
DTSTAMP:20260424T104114
CREATED:20230706T195735Z
LAST-MODIFIED:20230706T200502Z
UID:2789-1690372800-1690380000@www.megcmusic.com
SUMMARY:Songwriter Night at The Alley
DESCRIPTION:2420 Main St\, Littleton\, CO 80120
URL:https://www.megcmusic.com/event/songwriter-night-at-the-alley/
ATTACH;FMTTYPE=image/png:https://www.megcmusic.com/wp-content/uploads/2023/01/cropped-Songs-From-The-Sofa_Cover_Social.png
END:VEVENT
BEGIN:VEVENT
DTSTART;TZID=America/Denver:20230721T120000
DTEND;TZID=America/Denver:20230721T143000
DTSTAMP:20260424T104114
CREATED:20230330T205449Z
LAST-MODIFIED:20230330T205759Z
UID:2643-1689940800-1689949800@www.megcmusic.com
SUMMARY:Trio at iPie!
DESCRIPTION:Join Valerie Bhat\, Michelle Castillo & me with Joe Oeser backing us up at the WheatRidge iPie:  5807 W 38th Ave\, Wheat Ridge\, CO 80212
URL:https://www.megcmusic.com/event/trio-at-ipie-5/
ATTACH;FMTTYPE=image/jpeg:https://www.megcmusic.com/wp-content/uploads/2022/08/download.jpg
END:VEVENT
BEGIN:VEVENT
DTSTART;TZID=America/Denver:20230716T020000
DTEND;TZID=America/Denver:20230716T110000
DTSTAMP:20260424T104114
CREATED:20230716T062907Z
LAST-MODIFIED:20230716T062907Z
UID:2804-1689472800-1689505200@www.megcmusic.com
SUMMARY:Meghan & Her Cavemen at Inga's Alpine Tavern
DESCRIPTION:6pm – 9pm on the patio! \n5151 Leetsdale Dr\, Denver\, CO 80246
URL:https://www.megcmusic.com/event/meghan-her-cavemen-at-ingas-alpine-tavern/
ATTACH;FMTTYPE=image/jpeg:https://www.megcmusic.com/wp-content/uploads/2023/02/meghan-and-her-cavemen-2.jpg
END:VEVENT
BEGIN:VEVENT
DTSTART;TZID=America/Denver:20230708T080000
DTEND;TZID=America/Denver:20230708T110000
DTSTAMP:20260424T104114
CREATED:20230225T071606Z
LAST-MODIFIED:20230225T071736Z
UID:2576-1688803200-1688814000@www.megcmusic.com
SUMMARY:Meg & The Old Man at Rock Rest
DESCRIPTION:16005 Mt Vernon Rd\, Golden\, CO 80401
URL:https://www.megcmusic.com/event/meg-the-old-man-at-rock-rest-3/
ATTACH;FMTTYPE=image/jpeg:https://www.megcmusic.com/wp-content/uploads/2022/11/cavemen.jpg
END:VEVENT
BEGIN:VEVENT
DTSTART;TZID=America/Denver:20230624T120000
DTEND;TZID=America/Denver:20230624T150000
DTSTAMP:20260424T104114
CREATED:20221015T050544Z
LAST-MODIFIED:20221101T101039Z
UID:1920-1687608000-1687618800@www.megcmusic.com
SUMMARY:Meghan Clarisse & Her Cavemen
DESCRIPTION:Full Band Show at Inga’s Alpine Tavern! \n5151 Leetsdale Dr\, Denver\, CO 80246 \nCome party with us!
URL:https://www.megcmusic.com/event/meg-the-old-man-at-ingas-alpine-tavern-2/
ATTACH;FMTTYPE=image/png:https://www.megcmusic.com/wp-content/uploads/2022/10/ingas.png
END:VEVENT
BEGIN:VEVENT
DTSTART;TZID=America/Denver:20230620T100000
DTEND;TZID=America/Denver:20230620T110000
DTSTAMP:20260424T104114
CREATED:20230603T003202Z
LAST-MODIFIED:20230603T003202Z
UID:2750-1687255200-1687258800@www.megcmusic.com
SUMMARY:Live Music Yoga
DESCRIPTION:Join us for a hot power fusion yoga class taught by Mary Katherine with live music by Meghan at the Belmar Core Power studio \n7349 W Alaska Dr\, Lakewood\, CO 80226
URL:https://www.megcmusic.com/event/live-music-yoga-13/
ATTACH;FMTTYPE=image/png:https://www.megcmusic.com/wp-content/uploads/2023/02/unnamed.png
END:VEVENT
END:VCALENDAR