BEGIN:VCALENDAR
VERSION:2.0
PRODID:-//Meghan Clarisse Cave - ECPv6.15.20//NONSGML v1.0//EN
CALSCALE:GREGORIAN
METHOD:PUBLISH
X-ORIGINAL-URL:https://www.megcmusic.com
X-WR-CALDESC:Events for Meghan Clarisse Cave
REFRESH-INTERVAL;VALUE=DURATION:PT1H
X-Robots-Tag:noindex
X-PUBLISHED-TTL:PT1H
BEGIN:VTIMEZONE
TZID:America/Denver
BEGIN:DAYLIGHT
TZOFFSETFROM:-0700
TZOFFSETTO:-0600
TZNAME:MDT
DTSTART:20220313T090000
END:DAYLIGHT
BEGIN:STANDARD
TZOFFSETFROM:-0600
TZOFFSETTO:-0700
TZNAME:MST
DTSTART:20221106T080000
END:STANDARD
BEGIN:DAYLIGHT
TZOFFSETFROM:-0700
TZOFFSETTO:-0600
TZNAME:MDT
DTSTART:20230312T090000
END:DAYLIGHT
BEGIN:STANDARD
TZOFFSETFROM:-0600
TZOFFSETTO:-0700
TZNAME:MST
DTSTART:20231105T080000
END:STANDARD
BEGIN:DAYLIGHT
TZOFFSETFROM:-0700
TZOFFSETTO:-0600
TZNAME:MDT
DTSTART:20240310T090000
END:DAYLIGHT
BEGIN:STANDARD
TZOFFSETFROM:-0600
TZOFFSETTO:-0700
TZNAME:MST
DTSTART:20241103T080000
END:STANDARD
BEGIN:DAYLIGHT
TZOFFSETFROM:-0700
TZOFFSETTO:-0600
TZNAME:MDT
DTSTART:20250309T090000
END:DAYLIGHT
BEGIN:STANDARD
TZOFFSETFROM:-0600
TZOFFSETTO:-0700
TZNAME:MST
DTSTART:20251102T080000
END:STANDARD
END:VTIMEZONE
BEGIN:VEVENT
DTSTART;TZID=America/Denver:20240628T190000
DTEND;TZID=America/Denver:20240628T230000
DTSTAMP:20260424T073102
CREATED:20240307T085829Z
LAST-MODIFIED:20240321T024409Z
UID:3125-1719601200-1719615600@www.megcmusic.com
SUMMARY:Meghan & Her Cavemen at SitnBull
DESCRIPTION:Come party with us! \n\n5450 S Parmalee Gulch Rd\nIndian Hills\, CO 80454
URL:https://www.megcmusic.com/event/meghan-her-cavemen-at-sitnbull/
ATTACH;FMTTYPE=image/jpeg:https://www.megcmusic.com/wp-content/uploads/2024/02/IMG_0114.jpg
END:VEVENT
BEGIN:VEVENT
DTSTART;TZID=America/Denver:20240623T140000
DTEND;TZID=America/Denver:20240623T170000
DTSTAMP:20260424T073102
CREATED:20240304T102054Z
LAST-MODIFIED:20240609T193044Z
UID:3103-1719151200-1719162000@www.megcmusic.com
SUMMARY:Solo Acoustic at the Rock Rest
DESCRIPTION:Come hang with me on the patio! \n16005 Mt Vernon Rd\, Golden\, CO 80401
URL:https://www.megcmusic.com/event/meg-the-old-man-at-the-rock-rest-7/
ATTACH;FMTTYPE=image/png:https://www.megcmusic.com/wp-content/uploads/2023/01/Songs-From-The-Sofa_Cover_Social-1.png
END:VEVENT
BEGIN:VEVENT
DTSTART;TZID=America/Denver:20240622T180000
DTEND;TZID=America/Denver:20240622T210000
DTSTAMP:20260424T073102
CREATED:20240319T044350Z
LAST-MODIFIED:20240321T025123Z
UID:2985-1719079200-1719090000@www.megcmusic.com
SUMMARY:Meghan & Her Cavemen at Inga's
DESCRIPTION:Come join us for an epic\, unforgettable full band (7 piece) show at Inga’s Alpine Tavern \n5151 Leetsdale Dr\, Denver\, CO \n 
URL:https://www.megcmusic.com/event/meghan-her-cavemen-at-ingas/
ATTACH;FMTTYPE=image/jpeg:https://www.megcmusic.com/wp-content/uploads/2023/12/thumbnail-4.jpg
END:VEVENT
BEGIN:VEVENT
DTSTART;TZID=America/Denver:20240616T100000
DTEND;TZID=America/Denver:20240616T120000
DTSTAMP:20260424T073102
CREATED:20240224T013433Z
LAST-MODIFIED:20240609T193330Z
UID:3068-1718532000-1718539200@www.megcmusic.com
SUMMARY:Meghan Legacy Ridge Golf Course
DESCRIPTION:Celebrate Father’s Day with brunch on the patio while we sing you your favorite songs! \n 10801 Legacy Ridge Pkwy\, Westminster\, CO 80031
URL:https://www.megcmusic.com/event/meg-the-old-man-at-legacy-ridge-golf-course/
ATTACH;FMTTYPE=image/jpeg:https://www.megcmusic.com/wp-content/uploads/2024/04/moab-1-scaled.jpg
END:VEVENT
BEGIN:VEVENT
DTSTART;TZID=America/Denver:20240615T200000
DTEND;TZID=America/Denver:20240615T230000
DTSTAMP:20260424T073102
CREATED:20240524T190416Z
LAST-MODIFIED:20240524T190416Z
UID:3291-1718481600-1718492400@www.megcmusic.com
SUMMARY:Surprise Set at Fraco's!
DESCRIPTION:Details coming soon!
URL:https://www.megcmusic.com/event/surprise-set-at-fracos/
ATTACH;FMTTYPE=image/jpeg:https://www.megcmusic.com/wp-content/uploads/2024/04/moab-1-scaled.jpg
END:VEVENT
BEGIN:VEVENT
DTSTART;TZID=America/Denver:20240615T080000
DTEND;TZID=America/Denver:20240615T170000
DTSTAMP:20260424T073102
CREATED:20240412T145734Z
LAST-MODIFIED:20240412T145734Z
UID:3229-1718438400-1718470800@www.megcmusic.com
SUMMARY:Yoga For Hope
DESCRIPTION:Join us for a beautiful yoga class that Angie will teach to support The Evan Fischer Foundation \nhttps://evanfischerfoundation.org/ \nIn loving memory of Evan Fischer and Sam Kennedy \nCan’t attend?  Donate here:  https://evanfischerfoundation.org/donate \nTime and location TBA
URL:https://www.megcmusic.com/event/yoga-for-hope/
END:VEVENT
BEGIN:VEVENT
DTSTART;TZID=America/Denver:20240614T080000
DTEND;TZID=America/Denver:20240614T170000
DTSTAMP:20260424T073102
CREATED:20240214T073437Z
LAST-MODIFIED:20240528T174118Z
UID:3048-1718352000-1718384400@www.megcmusic.com
SUMMARY:Meghan & Todd on Friday Feelz Fox 21
DESCRIPTION:Time TBA
URL:https://www.megcmusic.com/event/meg-the-old-man-on-friday-feelz-fox-21/
ATTACH;FMTTYPE=image/jpeg:https://www.megcmusic.com/wp-content/uploads/2024/04/moab-1-scaled.jpg
END:VEVENT
BEGIN:VEVENT
DTSTART;TZID=America/Denver:20240612T190000
DTEND;TZID=America/Denver:20240612T200000
DTSTAMP:20260424T073102
CREATED:20240522T152950Z
LAST-MODIFIED:20240522T152950Z
UID:3287-1718218800-1718222400@www.megcmusic.com
SUMMARY:Uncovered at Fracos
DESCRIPTION:Come see our all female rock and roll cover band .  We play an hour set starting at 7pm \n5302 S Federal Cir # A\, Littleton\, CO 80123
URL:https://www.megcmusic.com/event/uncovered-at-fracos/
ATTACH;FMTTYPE=image/jpeg:https://www.megcmusic.com/wp-content/uploads/2024/05/thumbnail-2.jpg
END:VEVENT
BEGIN:VEVENT
DTSTART;TZID=America/Denver:20240611T173000
DTEND;TZID=America/Denver:20240611T193000
DTSTAMP:20260424T073102
CREATED:20240410T140015Z
LAST-MODIFIED:20240410T142359Z
UID:3210-1718127000-1718134200@www.megcmusic.com
SUMMARY:Volunteer Shift for Musicians On Call (Private Event)
DESCRIPTION:Learn more here:  https://www.musiciansoncall.org/
URL:https://www.megcmusic.com/event/volunteer-shift-for-musicians-on-call-private-event-2/
ATTACH;FMTTYPE=image/jpeg:https://www.megcmusic.com/wp-content/uploads/2024/04/download.jpg
END:VEVENT
BEGIN:VEVENT
DTSTART;TZID=America/Denver:20240526T123000
DTEND;TZID=America/Denver:20240526T140000
DTSTAMP:20260424T073102
CREATED:20240111T114725Z
LAST-MODIFIED:20240321T025308Z
UID:2992-1716726600-1716732000@www.megcmusic.com
SUMMARY:Meghan & Her Cavemen at Territory Days
DESCRIPTION:Come see us in Old Colorado City at the Territory Days Festival over Memorial Day Weekend! \nhttps://www.shopoldcoloradocity.com/territory-days#:~:text=Memorial%20Day%20Weekend%2C-\,May%2025%2D27\,handcrafts%20from%20around%20the%20world.
URL:https://www.megcmusic.com/event/meghan-her-cavemen-at-territory-days/
ATTACH;FMTTYPE=image/jpeg:https://www.megcmusic.com/wp-content/uploads/2023/12/thumbnail-10.jpg
END:VEVENT
BEGIN:VEVENT
DTSTART;TZID=America/Denver:20240525T140000
DTEND;TZID=America/Denver:20240525T170000
DTSTAMP:20260424T073102
CREATED:20240304T101535Z
LAST-MODIFIED:20240524T190127Z
UID:3098-1716645600-1716656400@www.megcmusic.com
SUMMARY:Meg & Dwight at The Rock Rest
DESCRIPTION:Come hang out on the patio with us! \n16005 Mt Vernon Rd\, Golden\, CO 80401
URL:https://www.megcmusic.com/event/meg-the-old-man-at-the-rock-rest-5/
END:VEVENT
BEGIN:VEVENT
DTSTART;TZID=America/Denver:20240519T120000
DTEND;TZID=America/Denver:20240519T130000
DTSTAMP:20260424T073102
CREATED:20240322T154401Z
LAST-MODIFIED:20240322T154401Z
UID:3164-1716120000-1716123600@www.megcmusic.com
SUMMARY:Meghan & Her Cavemen at the Food Truck Carnival
DESCRIPTION:EB Rains Memorial Park\, 11800 Community Center Drive\, Northglenn\, CO 80233
URL:https://www.megcmusic.com/event/meghan-her-cavemen-at-the-food-truck-carnival/
ATTACH;FMTTYPE=image/jpeg:https://www.megcmusic.com/wp-content/uploads/2024/02/IMG_0114.jpg
END:VEVENT
BEGIN:VEVENT
DTSTART;TZID=America/Denver:20240517T200000
DTEND;TZID=America/Denver:20240517T230000
DTSTAMP:20260424T073102
CREATED:20231221T113030Z
LAST-MODIFIED:20240321T025432Z
UID:2921-1715976000-1715986800@www.megcmusic.com
SUMMARY:Meghan & Her Cavemen at the Wood Cellar
DESCRIPTION:Come party with the full band in Evergreen on Friday May 17th at The Wood Cellar in Evergreen \n1552 Bergen Pkwy #101\, Evergreen\, CO 80439
URL:https://www.megcmusic.com/event/meghan-her-cavemen-at-the-wood-cellar/
ATTACH;FMTTYPE=image/jpeg:https://www.megcmusic.com/wp-content/uploads/2023/12/356038718_951566132824328_7196968775441664876_n.jpg
END:VEVENT
BEGIN:VEVENT
DTSTART;TZID=America/Denver:20240516T200000
DTEND;TZID=America/Denver:20240516T220000
DTSTAMP:20260424T073102
CREATED:20240223T052602Z
LAST-MODIFIED:20240321T025510Z
UID:3065-1715889600-1715896800@www.megcmusic.com
SUMMARY:Meghan & Her Cavemen (supporting Kayla Ray)
DESCRIPTION:Supporting Kayla Ray at the Black Buzzard in Oskar Blues \n1624 Market St\, Denver\, CO 80202 \nTime TBA
URL:https://www.megcmusic.com/event/meghan-her-cavemen/
ATTACH;FMTTYPE=image/jpeg:https://www.megcmusic.com/wp-content/uploads/2024/02/IMG_0114.jpg
END:VEVENT
BEGIN:VEVENT
DTSTART;TZID=America/Denver:20240514T173000
DTEND;TZID=America/Denver:20240514T193000
DTSTAMP:20260424T073102
CREATED:20240409T135419Z
LAST-MODIFIED:20240410T141156Z
UID:3206-1715707800-1715715000@www.megcmusic.com
SUMMARY:Volunteer Shift for Musicians On Call (Private Event)
DESCRIPTION:Learn more here:  https://www.musiciansoncall.org/
URL:https://www.megcmusic.com/event/volunteer-shift-for-musicians-on-call-private-event/
ATTACH;FMTTYPE=image/jpeg:https://www.megcmusic.com/wp-content/uploads/2024/04/download.jpg
END:VEVENT
BEGIN:VEVENT
DTSTART;TZID=America/Denver:20240511T090000
DTEND;TZID=America/Denver:20240511T100000
DTSTAMP:20260424T073102
CREATED:20240412T145022Z
LAST-MODIFIED:20240412T145022Z
UID:3227-1715418000-1715421600@www.megcmusic.com
SUMMARY:Live Music Yoga Class
DESCRIPTION:Loretta will teach a beautiful Hot Power Fusion and I’ll provide the music \n7349 W Alaska Dr\, Lakewood\, CO 80226
URL:https://www.megcmusic.com/event/live-music-yoga-class-11/
ATTACH;FMTTYPE=image/jpeg:https://www.megcmusic.com/wp-content/uploads/2022/04/kirtan.jpg
END:VEVENT
BEGIN:VEVENT
DTSTART;TZID=America/Denver:20240509T190000
DTEND;TZID=America/Denver:20240509T210000
DTSTAMP:20260424T073102
CREATED:20240226T223515Z
LAST-MODIFIED:20240321T025540Z
UID:3077-1715281200-1715288400@www.megcmusic.com
SUMMARY:Meg & The Old Man at The Alley
DESCRIPTION:Come hang out in downtown Littleton while we play all your favorites \n 2420 Main St\, Littleton\, CO 80120
URL:https://www.megcmusic.com/event/meg-the-old-man-at-the-alley/
ATTACH;FMTTYPE=image/jpeg:https://www.megcmusic.com/wp-content/uploads/2024/02/IMG_0135-1-scaled.jpg
END:VEVENT
BEGIN:VEVENT
DTSTART;TZID=America/Denver:20240421T100000
DTEND;TZID=America/Denver:20240421T120000
DTSTAMP:20260424T073102
CREATED:20240301T223235Z
LAST-MODIFIED:20240321T025616Z
UID:3088-1713693600-1713700800@www.megcmusic.com
SUMMARY:Meg & The Old Man at Legacy Ridge
DESCRIPTION:Join us on the most beautiful patio in Denver for brunch and live music with a view \n10801 Legacy Ridge Pkwy\, Westminster\, CO 80031
URL:https://www.megcmusic.com/event/meg-the-old-man-11/
ATTACH;FMTTYPE=image/jpeg:https://www.megcmusic.com/wp-content/uploads/2024/02/IMG_0135-1-scaled.jpg
END:VEVENT
BEGIN:VEVENT
DTSTART;TZID=America/Denver:20240420T130000
DTEND;TZID=America/Denver:20240420T160000
DTSTAMP:20260424T073102
CREATED:20240308T015557Z
LAST-MODIFIED:20240328T015702Z
UID:3133-1713618000-1713628800@www.megcmusic.com
SUMMARY:Meg & The Old Man at Silver Vines
DESCRIPTION:2015 13th St\, Boulder\, CO 80302
URL:https://www.megcmusic.com/event/meg-the-old-man-at-silver-vines/
ATTACH;FMTTYPE=image/jpeg:https://www.megcmusic.com/wp-content/uploads/2024/02/IMG_0135-1-scaled.jpg
END:VEVENT
BEGIN:VEVENT
DTSTART;TZID=America/Denver:20240412T190000
DTEND;TZID=America/Denver:20240412T230000
DTSTAMP:20260424T073102
CREATED:20240328T015415Z
LAST-MODIFIED:20240328T015415Z
UID:3176-1712948400-1712962800@www.megcmusic.com
SUMMARY:Meghan & Her Cavemen at Dougie G's
DESCRIPTION:Come see us at one of Denver’s best dance halls and music venues!  $10 cover \nIt’s going to be a blast!! \n 10217 Quivas St\, Thornton\, CO 80260
URL:https://www.megcmusic.com/event/meghan-her-cavemen-at-dougie-gs/
END:VEVENT
BEGIN:VEVENT
DTSTART;TZID=America/Denver:20240406T193000
DTEND;TZID=America/Denver:20240406T233000
DTSTAMP:20260424T073102
CREATED:20240119T075153Z
LAST-MODIFIED:20240321T025727Z
UID:3002-1712431800-1712446200@www.megcmusic.com
SUMMARY:Meghan & Her Cavemen at The Little Bear
DESCRIPTION:Come dance to your favorite covers and originals \n28075 CO-74\, Evergreen\, CO 80439
URL:https://www.megcmusic.com/event/meghan-her-cavemen-at-the-little-bear/
ATTACH;FMTTYPE=image/jpeg:https://www.megcmusic.com/wp-content/uploads/2023/12/thumbnail-4.jpg
END:VEVENT
BEGIN:VEVENT
DTSTART;TZID=America/Denver:20240330T100000
DTEND;TZID=America/Denver:20240330T130000
DTSTAMP:20260424T073102
CREATED:20231221T113848Z
LAST-MODIFIED:20240321T025802Z
UID:2924-1711792800-1711803600@www.megcmusic.com
SUMMARY:Meg & The Old Man at Taliesin West
DESCRIPTION:Join us in Scottsdale Arizona at the famous winter home of Frank Lloyd Wright \n12621 N Frank Lloyd Wright Blvd\, Scottsdale\, AZ 85259
URL:https://www.megcmusic.com/event/meg-the-old-man-at-taliesin-west/
ATTACH;FMTTYPE=image/jpeg:https://www.megcmusic.com/wp-content/uploads/2023/12/340830209_876230213478155_2036235356145776448_n.jpg
END:VEVENT
BEGIN:VEVENT
DTSTART;TZID=America/Denver:20240321T110927
DTEND;TZID=America/Denver:20240321T110927
DTSTAMP:20260424T073102
CREATED:20220325T203219Z
LAST-MODIFIED:20220325T203219Z
UID:600-1711019367-1711019367@www.megcmusic.com
SUMMARY:Live at Roots
DESCRIPTION:1200 Miramonte St\, Broomfield\, CO 80020
URL:https://www.megcmusic.com/event/live-at-roots/
END:VEVENT
BEGIN:VEVENT
DTSTART;TZID=America/Denver:20240317T080000
DTEND;TZID=America/Denver:20240317T110000
DTSTAMP:20260424T073102
CREATED:20240208T050646Z
LAST-MODIFIED:20240208T050646Z
UID:3032-1710662400-1710673200@www.megcmusic.com
SUMMARY:Colorado Country Music Hall of Fame Women of Country Music
DESCRIPTION:Join us for this one of a kind all star show! \nPerformances by: \nMeghan Clarisse   2024 Nominee for Female Vocalist of the Year\nLori Roop   2023  Newcomer of the Year\nShaunda Fry  Long Time Colorado Vocalist\nKaren Osburn  2007  Entertainer of the Decade\nLauren Michaels  2021 Female Vocalist of the Year\nAndi Weber   2022 Female Vocalist of the Year\nKelsey Jo  2023 Female Vocalist of the Year\n\n\nThe All Star Band includes:\n\nJodie Woodward on Bass\nMark Gabert on Guitar\nKevin Thomas on Drums\n\nat Dougie G’s 10217 Quivas St\, Thornton\, CO 80260
URL:https://www.megcmusic.com/event/colorado-country-music-hall-of-fame-women-of-country-music/
ATTACH;FMTTYPE=image/jpeg:https://www.megcmusic.com/wp-content/uploads/2024/02/a-poster.jpg
END:VEVENT
BEGIN:VEVENT
DTSTART;TZID=America/Denver:20240213T120000
DTEND;TZID=America/Denver:20240213T130000
DTSTAMP:20260424T073102
CREATED:20240212T021426Z
LAST-MODIFIED:20240212T021426Z
UID:3039-1707825600-1707829200@www.megcmusic.com
SUMMARY:Live Music Yoga
DESCRIPTION:Angie K teaches and Meghan C plays \nBelmar Core Power \n7349 W Alaska Dr\, Lakewood\, CO 80226
URL:https://www.megcmusic.com/event/live-music-yoga-15/
ATTACH;FMTTYPE=image/jpeg:https://www.megcmusic.com/wp-content/uploads/2024/02/426397521_1090832785564328_4930059490352298_n.jpg
END:VEVENT
BEGIN:VEVENT
DTSTART;TZID=America/Denver:20240207T130000
DTEND;TZID=America/Denver:20240207T160000
DTSTAMP:20260424T073102
CREATED:20240118T000229Z
LAST-MODIFIED:20240127T045238Z
UID:3000-1707310800-1707321600@www.megcmusic.com
SUMMARY:Meg & The Old Man at the Velvet Elk
DESCRIPTION:Join Meghan & Steve in Boulder for a night of great live music at The Velvet Elk \n2037 13th St\, Boulder\, CO 80302
URL:https://www.megcmusic.com/event/meg-the-old-man-10/
ATTACH;FMTTYPE=image/jpeg:https://www.megcmusic.com/wp-content/uploads/2023/12/thumbnail-3.jpg
END:VEVENT
BEGIN:VEVENT
DTSTART;TZID=America/Denver:20240202T130000
DTEND;TZID=America/Denver:20240202T163000
DTSTAMP:20260424T073102
CREATED:20240122T034643Z
LAST-MODIFIED:20240122T034643Z
UID:3010-1706878800-1706891400@www.megcmusic.com
SUMMARY:Meghan & Her Cavemen at Fraco's
DESCRIPTION:Come see us at a great venue!  Fraco’s \n5302 S Federal Cir # A\, Littleton\, CO 80123
URL:https://www.megcmusic.com/event/meghan-her-cavemen-at-fracos/
ATTACH;FMTTYPE=image/jpeg:https://www.megcmusic.com/wp-content/uploads/2023/12/thumbnail-4.jpg
END:VEVENT
BEGIN:VEVENT
DTSTART;TZID=America/Denver:20240126T110000
DTEND;TZID=America/Denver:20240126T140000
DTSTAMP:20260424T073102
CREATED:20231228T053933Z
LAST-MODIFIED:20231228T053933Z
UID:2983-1706266800-1706277600@www.megcmusic.com
SUMMARY:Meg & The Old Man at Inga's
DESCRIPTION:Come join the Old Man and me at Inga’s Alpine Tavern \nFriday January 26th \n5151 Leetsdale Dr \nDenver\, CO
URL:https://www.megcmusic.com/event/meg-the-old-man-at-ingas-2/
ATTACH;FMTTYPE=image/jpeg:https://www.megcmusic.com/wp-content/uploads/2023/12/thumbnail-3.jpg
END:VEVENT
BEGIN:VEVENT
DTSTART;TZID=America/Denver:20231214T120000
DTEND;TZID=America/Denver:20231214T140000
DTSTAMP:20260424T073102
CREATED:20231109T031417Z
LAST-MODIFIED:20231109T031417Z
UID:2908-1702555200-1702562400@www.megcmusic.com
SUMMARY:Christmas at Brewery Rickoli
DESCRIPTION:Join us – Jack Hadley\, Joe Oeser\, Valerie Bhat and myself for a fun evening of holiday tunes!
URL:https://www.megcmusic.com/event/christmas-at-brewery-rickoli/
ATTACH;FMTTYPE=image/jpeg:https://www.megcmusic.com/wp-content/uploads/2023/06/empty-pint-955413c1ab8908d6998e48fdb4ab2458a28f20aba7287e7dcc728f4f67735533.jpg
END:VEVENT
BEGIN:VEVENT
DTSTART;TZID=America/Denver:20231114T090000
DTEND;TZID=America/Denver:20231114T100000
DTSTAMP:20260424T073102
CREATED:20231029T215131Z
LAST-MODIFIED:20231029T215131Z
UID:2903-1699952400-1699956000@www.megcmusic.com
SUMMARY:Live Music Yoga
DESCRIPTION:Join Mary Katherine’s Hot Power Fusion class with live music 4pm \nBelmar Core Power \n7349 W Alaska Dr\, Lakewood\, CO 80226
URL:https://www.megcmusic.com/event/live-music-yoga-14/
ATTACH;FMTTYPE=image/png:https://www.megcmusic.com/wp-content/uploads/2023/01/cropped-Songs-From-The-Sofa_Cover_Social.png
END:VEVENT
END:VCALENDAR