BEGIN:VCALENDAR
VERSION:2.0
PRODID:-//Meghan Clarisse Cave - ECPv6.15.20//NONSGML v1.0//EN
CALSCALE:GREGORIAN
METHOD:PUBLISH
X-WR-CALNAME:Meghan Clarisse Cave
X-ORIGINAL-URL:https://www.megcmusic.com
X-WR-CALDESC:Events for Meghan Clarisse Cave
REFRESH-INTERVAL;VALUE=DURATION:PT1H
X-Robots-Tag:noindex
X-PUBLISHED-TTL:PT1H
BEGIN:VTIMEZONE
TZID:America/Denver
BEGIN:DAYLIGHT
TZOFFSETFROM:-0700
TZOFFSETTO:-0600
TZNAME:MDT
DTSTART:20230312T090000
END:DAYLIGHT
BEGIN:STANDARD
TZOFFSETFROM:-0600
TZOFFSETTO:-0700
TZNAME:MST
DTSTART:20231105T080000
END:STANDARD
BEGIN:DAYLIGHT
TZOFFSETFROM:-0700
TZOFFSETTO:-0600
TZNAME:MDT
DTSTART:20240310T090000
END:DAYLIGHT
BEGIN:STANDARD
TZOFFSETFROM:-0600
TZOFFSETTO:-0700
TZNAME:MST
DTSTART:20241103T080000
END:STANDARD
BEGIN:DAYLIGHT
TZOFFSETFROM:-0700
TZOFFSETTO:-0600
TZNAME:MDT
DTSTART:20250309T090000
END:DAYLIGHT
BEGIN:STANDARD
TZOFFSETFROM:-0600
TZOFFSETTO:-0700
TZNAME:MST
DTSTART:20251102T080000
END:STANDARD
BEGIN:DAYLIGHT
TZOFFSETFROM:-0700
TZOFFSETTO:-0600
TZNAME:MDT
DTSTART:20260308T090000
END:DAYLIGHT
BEGIN:STANDARD
TZOFFSETFROM:-0600
TZOFFSETTO:-0700
TZNAME:MST
DTSTART:20261101T080000
END:STANDARD
END:VTIMEZONE
BEGIN:VEVENT
DTSTART;TZID=America/Denver:20250114T180000
DTEND;TZID=America/Denver:20250114T200000
DTSTAMP:20260424T011023
CREATED:20250107T215731Z
LAST-MODIFIED:20250107T215731Z
UID:3882-1736877600-1736884800@www.megcmusic.com
SUMMARY:Volunteering with Musicians On Call
DESCRIPTION:Childrens Hospital Colorado
URL:https://www.megcmusic.com/event/volunteering-with-musicians-on-call/
ATTACH;FMTTYPE=image/jpeg:https://www.megcmusic.com/wp-content/uploads/2024/04/download.jpg
END:VEVENT
BEGIN:VEVENT
DTSTART;TZID=America/Denver:20250109T190000
DTEND;TZID=America/Denver:20250109T220000
DTSTAMP:20260424T011023
CREATED:20241202T182945Z
LAST-MODIFIED:20250109T181946Z
UID:3799-1736449200-1736460000@www.megcmusic.com
SUMMARY:CANCELLED Meghan & Her Cavemen at Fraco's
DESCRIPTION:Come see us at Colorado’s newest country bar and best place to dance! \n5302 S Federal Cir # A\, Littleton\, CO 80123
URL:https://www.megcmusic.com/event/meghan-her-cavemen-at-fracos-4/
ATTACH;FMTTYPE=image/jpeg:https://www.megcmusic.com/wp-content/uploads/2024/10/464245870_1261881428459462_8839439393050421254_n.jpg
END:VEVENT
BEGIN:VEVENT
DTSTART;TZID=America/Denver:20250106T170000
DTEND;TZID=America/Denver:20250106T190000
DTSTAMP:20260424T011023
CREATED:20241202T184107Z
LAST-MODIFIED:20241202T184107Z
UID:3808-1736182800-1736190000@www.megcmusic.com
SUMMARY:Meghan Solo Acoustic
DESCRIPTION:Join me at Cafe Ole for a mellow vibe of solo acoustic covers and originals \n3225 S Wadsworth Blvd L\, Lakewood\, CO 80227
URL:https://www.megcmusic.com/event/meghan-solo-acoustic/
ATTACH;FMTTYPE=image/jpeg:https://www.megcmusic.com/wp-content/uploads/2024/06/cropped-cropped-website-2-scaled-1.jpg
END:VEVENT
BEGIN:VEVENT
DTSTART;TZID=America/Denver:20241221T180000
DTEND;TZID=America/Denver:20241221T200000
DTSTAMP:20260424T011023
CREATED:20241217T172115Z
LAST-MODIFIED:20241217T172115Z
UID:3836-1734804000-1734811200@www.megcmusic.com
SUMMARY:Jack\, Meghan & Dwight Holiday Song Swap
DESCRIPTION:Join us for holiday songs and fun at Brewery Rickoli \n4335 Wadsworth Blvd\, Wheat Ridge\, CO 80033
URL:https://www.megcmusic.com/event/jack-meghan-dwight-holiday-song-swap/
ATTACH;FMTTYPE=image/jpeg:https://www.megcmusic.com/wp-content/uploads/2023/06/empty-pint-955413c1ab8908d6998e48fdb4ab2458a28f20aba7287e7dcc728f4f67735533.jpg
END:VEVENT
BEGIN:VEVENT
DTSTART;TZID=America/Denver:20241217T173000
DTEND;TZID=America/Denver:20241217T193000
DTSTAMP:20260424T011023
CREATED:20240710T004402Z
LAST-MODIFIED:20240710T004402Z
UID:3421-1734456600-1734463800@www.megcmusic.com
SUMMARY:Volunteer Shift for Musicians On Call (Private Event)
DESCRIPTION:Learn more here:  https://www.musiciansoncall.org/
URL:https://www.megcmusic.com/event/volunteer-shift-for-musicians-on-call-private-event-11/
ATTACH;FMTTYPE=image/jpeg:https://www.megcmusic.com/wp-content/uploads/2024/04/download.jpg
END:VEVENT
BEGIN:VEVENT
DTSTART;TZID=America/Denver:20241214T080000
DTEND;TZID=America/Denver:20241214T170000
DTSTAMP:20260424T011023
CREATED:20241022T164325Z
LAST-MODIFIED:20241124T004232Z
UID:3647-1734163200-1734195600@www.megcmusic.com
SUMMARY:Country Christmas with Larry Zanier and Todd Clayton
DESCRIPTION:
URL:https://www.megcmusic.com/event/country-christmas-with-larry-zanier/
ATTACH;FMTTYPE=image/png:https://www.megcmusic.com/wp-content/uploads/2024/10/thumbnail.png
END:VEVENT
BEGIN:VEVENT
DTSTART;TZID=America/Denver:20241212T190000
DTEND;TZID=America/Denver:20241212T220000
DTSTAMP:20260424T011023
CREATED:20241023T214638Z
LAST-MODIFIED:20241023T214638Z
UID:3653-1734030000-1734040800@www.megcmusic.com
SUMMARY:Meghan & Her Cavemen at Fraco's
DESCRIPTION:5302 S Federal Littleton
URL:https://www.megcmusic.com/event/meghan-her-cavemen-at-fracos-3/
ATTACH;FMTTYPE=image/jpeg:https://www.megcmusic.com/wp-content/uploads/2024/10/464245870_1261881428459462_8839439393050421254_n.jpg
END:VEVENT
BEGIN:VEVENT
DTSTART;TZID=America/Denver:20241210T080000
DTEND;TZID=America/Denver:20241210T170000
DTSTAMP:20260424T011023
CREATED:20240410T142815Z
LAST-MODIFIED:20240410T142815Z
UID:3223-1733817600-1733850000@www.megcmusic.com
SUMMARY:Volunteer Shift for Musicians On Call (Private Event)
DESCRIPTION:Learn more here:  https://www.musiciansoncall.org/
URL:https://www.megcmusic.com/event/volunteer-shift-for-musicians-on-call-private-event-8/
ATTACH;FMTTYPE=image/jpeg:https://www.megcmusic.com/wp-content/uploads/2024/04/download.jpg
END:VEVENT
BEGIN:VEVENT
DTSTART;TZID=America/Denver:20241202T170000
DTEND;TZID=America/Denver:20241202T190000
DTSTAMP:20260424T011023
CREATED:20240604T031402Z
LAST-MODIFIED:20240702T153516Z
UID:3315-1733158800-1733166000@www.megcmusic.com
SUMMARY:Solo Acoustic at Cafe Ole
DESCRIPTION:Join me the first Monday of every month at Cafe Ole for covers and originals \n3225 S Wadsworth Blvd L\, Lakewood\, CO 80227
URL:https://www.megcmusic.com/event/solo-acoustic-at-cafe-ole-6/
ATTACH;FMTTYPE=image/jpeg:https://www.megcmusic.com/wp-content/uploads/2024/06/IMG_0969.jpg
END:VEVENT
BEGIN:VEVENT
DTSTART;TZID=America/Denver:20241123T090000
DTEND;TZID=America/Denver:20241123T100000
DTSTAMP:20260424T011023
CREATED:20241122T012008Z
LAST-MODIFIED:20241122T012008Z
UID:3709-1732352400-1732356000@www.megcmusic.com
SUMMARY:Live Music Yoga
DESCRIPTION:Loretta teaches a 9am Hot Power Fusion at the Belmar Core Power \nMusic by Meghan Clarisse and Stephen Marshall
URL:https://www.megcmusic.com/event/live-music-yoga-16/
ATTACH;FMTTYPE=image/jpeg:https://www.megcmusic.com/wp-content/uploads/2024/11/468050630_1283780419602896_4147024142408592033_n.jpg
END:VEVENT
BEGIN:VEVENT
DTSTART;TZID=America/Denver:20241119T173000
DTEND;TZID=America/Denver:20241119T193000
DTSTAMP:20260424T011023
CREATED:20240710T004247Z
LAST-MODIFIED:20240710T004247Z
UID:3419-1732037400-1732044600@www.megcmusic.com
SUMMARY:Volunteer Shift for Musicians On Call (Private Event)
DESCRIPTION:Learn more here:  https://www.musiciansoncall.org/
URL:https://www.megcmusic.com/event/volunteer-shift-for-musicians-on-call-private-event-10/
ATTACH;FMTTYPE=image/jpeg:https://www.megcmusic.com/wp-content/uploads/2024/04/download.jpg
END:VEVENT
BEGIN:VEVENT
DTSTART;TZID=America/Denver:20241114T190000
DTEND;TZID=America/Denver:20241114T220000
DTSTAMP:20260424T011023
CREATED:20241023T214457Z
LAST-MODIFIED:20241023T214457Z
UID:3650-1731610800-1731621600@www.megcmusic.com
SUMMARY:Meghan & Her Cavemen at Fraco's
DESCRIPTION:5302 S Federal\, Littleton
URL:https://www.megcmusic.com/event/meghan-her-cavemen-at-fracos-2/
ATTACH;FMTTYPE=image/jpeg:https://www.megcmusic.com/wp-content/uploads/2024/10/464245870_1261881428459462_8839439393050421254_n.jpg
END:VEVENT
BEGIN:VEVENT
DTSTART;TZID=America/Denver:20241112T173000
DTEND;TZID=America/Denver:20241112T193000
DTSTAMP:20260424T011023
CREATED:20240410T142653Z
LAST-MODIFIED:20240410T142653Z
UID:3221-1731432600-1731439800@www.megcmusic.com
SUMMARY:Volunteer Shift for Musicians On Call (Private Event)
DESCRIPTION:Learn more here:  https://www.musiciansoncall.org/
URL:https://www.megcmusic.com/event/volunteer-shift-for-musicians-on-call-private-event-7/
ATTACH;FMTTYPE=image/jpeg:https://www.megcmusic.com/wp-content/uploads/2024/04/download.jpg
END:VEVENT
BEGIN:VEVENT
DTSTART;TZID=America/Denver:20241108T123000
DTEND;TZID=America/Denver:20241108T133000
DTSTAMP:20260424T011023
CREATED:20240923T160743Z
LAST-MODIFIED:20240923T160743Z
UID:3605-1731069000-1731072600@www.megcmusic.com
SUMMARY:Interview & Live Performance with K4CO
DESCRIPTION:Tune in at 12:30 to hear us on a live radio show https://www.k4coradio.com/
URL:https://www.megcmusic.com/event/interview-live-performance-with-k4co/
ATTACH;FMTTYPE=image/webp:https://www.megcmusic.com/wp-content/uploads/2024/09/K4CO-black-computer-view_edited_edited.webp
END:VEVENT
BEGIN:VEVENT
DTSTART;TZID=America/Denver:20241108T123000
DTEND;TZID=America/Denver:20241108T123000
DTSTAMP:20260424T011023
CREATED:20240921T155431Z
LAST-MODIFIED:20240921T155431Z
UID:3601-1731069000-1731069000@www.megcmusic.com
SUMMARY:K4CO Interview and Radio Show
DESCRIPTION:Tune in to hear Todd and I be interviewed and play songs \nhttps://www.k4coradio.com/
URL:https://www.megcmusic.com/event/k4co-interview-and-radio-show/
ATTACH;FMTTYPE=image/webp:https://www.megcmusic.com/wp-content/uploads/2024/09/K4CO-black-computer-view_edited_edited.webp
END:VEVENT
BEGIN:VEVENT
DTSTART;TZID=America/Denver:20241104T170000
DTEND;TZID=America/Denver:20241104T190000
DTSTAMP:20260424T011023
CREATED:20240604T031232Z
LAST-MODIFIED:20240702T153835Z
UID:3313-1730739600-1730746800@www.megcmusic.com
SUMMARY:Solo Acoustic at Cafe Ole
DESCRIPTION:Join me the first Monday of every month at Cafe Ole for covers and originals \n3225 S Wadsworth Blvd L\, Lakewood\, CO 80227
URL:https://www.megcmusic.com/event/solo-acoustic-at-cafe-ole-5/
ATTACH;FMTTYPE=image/jpeg:https://www.megcmusic.com/wp-content/uploads/2024/06/IMG_0969.jpg
END:VEVENT
BEGIN:VEVENT
DTSTART;TZID=America/Denver:20241019T080000
DTEND;TZID=America/Denver:20241019T170000
DTSTAMP:20260424T011023
CREATED:20240820T185407Z
LAST-MODIFIED:20240820T185559Z
UID:3531-1729324800-1729357200@www.megcmusic.com
SUMMARY:Meghan & Her Cavemen
DESCRIPTION:Live at Fracos \nMultiple bands – details TBA \n5302 S Federal Cir # A\, Littleton\, CO 80123
URL:https://www.megcmusic.com/event/meghan-her-cavemen-4/
ATTACH;FMTTYPE=image/jpeg:https://www.megcmusic.com/wp-content/uploads/2024/07/449653837_1181115159869423_2804578134125854544_n.jpg
END:VEVENT
BEGIN:VEVENT
DTSTART;TZID=America/Denver:20241018T190000
DTEND;TZID=America/Denver:20241018T210000
DTSTAMP:20260424T011023
CREATED:20240820T193923Z
LAST-MODIFIED:20241018T153740Z
UID:3533-1729278000-1729285200@www.megcmusic.com
SUMMARY:EP Release Party SOLD OUT
DESCRIPTION:  \n  \n 
URL:https://www.megcmusic.com/event/ep-release-party/
ATTACH;FMTTYPE=image/png:https://www.megcmusic.com/wp-content/uploads/2024/08/kindred-spirits.png
END:VEVENT
BEGIN:VEVENT
DTSTART;TZID=America/Denver:20241008T173000
DTEND;TZID=America/Denver:20241008T193000
DTSTAMP:20260424T011023
CREATED:20240410T142032Z
LAST-MODIFIED:20240410T142457Z
UID:3217-1728408600-1728415800@www.megcmusic.com
SUMMARY:Volunteer Shift for Musicians On Call (Private Event)
DESCRIPTION:Learn more here:  https://www.musiciansoncall.org/
URL:https://www.megcmusic.com/event/volunteer-shift-for-musicians-on-call-private-event-5/
ATTACH;FMTTYPE=image/jpeg:https://www.megcmusic.com/wp-content/uploads/2024/04/download.jpg
END:VEVENT
BEGIN:VEVENT
DTSTART;TZID=America/Denver:20241007T170000
DTEND;TZID=America/Denver:20241007T190000
DTSTAMP:20260424T011024
CREATED:20240604T031109Z
LAST-MODIFIED:20240702T154243Z
UID:3311-1728320400-1728327600@www.megcmusic.com
SUMMARY:Solo Acoustic at Cafe Ole
DESCRIPTION:Join me the first Monday of every month at Cafe Ole for covers and originals \n3225 S Wadsworth Blvd L\, Lakewood\, CO 80227
URL:https://www.megcmusic.com/event/solo-acoustic-at-cafe-ole-4/
ATTACH;FMTTYPE=image/jpeg:https://www.megcmusic.com/wp-content/uploads/2024/06/IMG_0969.jpg
END:VEVENT
BEGIN:VEVENT
DTSTART;TZID=America/Denver:20241006T080000
DTEND;TZID=America/Denver:20241006T170000
DTSTAMP:20260424T011024
CREATED:20240508T232601Z
LAST-MODIFIED:20240508T232601Z
UID:3270-1728201600-1728234000@www.megcmusic.com
SUMMARY:Meghan & Her Cavemen at Lakewood Cider Days
DESCRIPTION:Join us for Lakewood’s annual Cider Days Festival at Belmar Park \nTime TBA
URL:https://www.megcmusic.com/event/meghan-her-cavemen-at-lakewood-cider-days-3/
ATTACH;FMTTYPE=image/jpeg:https://www.megcmusic.com/wp-content/uploads/2024/02/IMG_0114.jpg
END:VEVENT
BEGIN:VEVENT
DTSTART;TZID=America/Denver:20241005T080000
DTEND;TZID=America/Denver:20241005T170000
DTSTAMP:20260424T011024
CREATED:20240508T232146Z
LAST-MODIFIED:20240508T232146Z
UID:3268-1728115200-1728147600@www.megcmusic.com
SUMMARY:Meghan & Her Cavemen at Lakewood Cider Days
DESCRIPTION:Join us for Lakewood’s annual Cider Days Festival at Belmar Park \nTime TBA
URL:https://www.megcmusic.com/event/meghan-her-cavemen-at-lakewood-cider-days-2/
ATTACH;FMTTYPE=image/jpeg:https://www.megcmusic.com/wp-content/uploads/2024/02/IMG_0114.jpg
END:VEVENT
BEGIN:VEVENT
DTSTART;TZID=America/Denver:20241001T190000
DTEND;TZID=America/Denver:20241001T200000
DTSTAMP:20260424T011024
CREATED:20240918T175638Z
LAST-MODIFIED:20240921T155533Z
UID:3595-1727809200-1727812800@www.megcmusic.com
SUMMARY:KGNU Kaberet Show
DESCRIPTION:Tune in at 7pm https://kgnu.org/shows/kabaret/
URL:https://www.megcmusic.com/event/kgnu-kaberet-show/
ATTACH;FMTTYPE=image/png:https://www.megcmusic.com/wp-content/uploads/2024/09/kgnu-logo-orange.png
END:VEVENT
BEGIN:VEVENT
DTSTART;TZID=America/Denver:20241001T173000
DTEND;TZID=America/Denver:20241001T193000
DTSTAMP:20260424T011024
CREATED:20240710T004114Z
LAST-MODIFIED:20240710T004114Z
UID:3417-1727803800-1727811000@www.megcmusic.com
SUMMARY:Volunteer Shift for Musicians On Call (Private Event)
DESCRIPTION:Learn more here:  https://www.musiciansoncall.org/
URL:https://www.megcmusic.com/event/volunteer-shift-for-musicians-on-call-private-event-9/
ATTACH;FMTTYPE=image/jpeg:https://www.megcmusic.com/wp-content/uploads/2024/04/download.jpg
END:VEVENT
BEGIN:VEVENT
DTSTART;TZID=America/Denver:20240915T160000
DTEND;TZID=America/Denver:20240915T180000
DTSTAMP:20260424T011024
CREATED:20240913T214933Z
LAST-MODIFIED:20240913T214933Z
UID:3586-1726416000-1726423200@www.megcmusic.com
SUMMARY:Lovespace Showcase
DESCRIPTION:Songwriter round in Loveland\, CO \nMessage for details
URL:https://www.megcmusic.com/event/lovespace-showcase/
ATTACH;FMTTYPE=image/jpeg:https://www.megcmusic.com/wp-content/uploads/2024/09/459571425_8582331921785859_8544173874230421372_n.jpg
END:VEVENT
BEGIN:VEVENT
DTSTART;TZID=America/Denver:20240910T173000
DTEND;TZID=America/Denver:20240910T193000
DTSTAMP:20260424T011024
CREATED:20240410T142229Z
LAST-MODIFIED:20240410T142229Z
UID:3219-1725989400-1725996600@www.megcmusic.com
SUMMARY:Volunteer Shift for Musicians On Call (Private Event)
DESCRIPTION:Learn more here:  https://www.musiciansoncall.org/
URL:https://www.megcmusic.com/event/volunteer-shift-for-musicians-on-call-private-event-6/
ATTACH;FMTTYPE=image/jpeg:https://www.megcmusic.com/wp-content/uploads/2024/04/download.jpg
END:VEVENT
BEGIN:VEVENT
DTSTART;TZID=America/Denver:20240908T140000
DTEND;TZID=America/Denver:20240908T170000
DTSTAMP:20260424T011024
CREATED:20240304T102834Z
LAST-MODIFIED:20240322T151929Z
UID:3109-1725804000-1725814800@www.megcmusic.com
SUMMARY:Meg & Mark Gabert at the Rock Rest
DESCRIPTION:Come hang out on the patio with us! \n16005 Mt Vernon Rd\, Golden\, CO 80401
URL:https://www.megcmusic.com/event/meg-the-old-man-at-the-rock-rest-10/
END:VEVENT
BEGIN:VEVENT
DTSTART;TZID=America/Denver:20240907T160000
DTEND;TZID=America/Denver:20240907T173000
DTSTAMP:20260424T011024
CREATED:20240709T184628Z
LAST-MODIFIED:20240729T141920Z
UID:3414-1725724800-1725730200@www.megcmusic.com
SUMMARY:Meghan & Her Cavemen at The Harvest Festival
DESCRIPTION:Harvest Festival in Arvada \n4pm
URL:https://www.megcmusic.com/event/meghan-her-cavemen-3/
ATTACH;FMTTYPE=image/jpeg:https://www.megcmusic.com/wp-content/uploads/2024/07/449653837_1181115159869423_2804578134125854544_n.jpg
END:VEVENT
BEGIN:VEVENT
DTSTART;TZID=America/Denver:20240830T193000
DTEND;TZID=America/Denver:20240830T223000
DTSTAMP:20260424T011024
CREATED:20240705T163151Z
LAST-MODIFIED:20240813T002943Z
UID:3403-1725046200-1725057000@www.megcmusic.com
SUMMARY:Meg & Mark at Silver Vines
DESCRIPTION:7509 Grandview Ave\, Arvada\, CO 80002
URL:https://www.megcmusic.com/event/meghan-at-silver-vines/
ATTACH;FMTTYPE=image/png:https://www.megcmusic.com/wp-content/uploads/2024/07/download.png
END:VEVENT
BEGIN:VEVENT
DTSTART;TZID=America/Denver:20240825T140000
DTEND;TZID=America/Denver:20240825T180000
DTSTAMP:20260424T011024
CREATED:20240418T145900Z
LAST-MODIFIED:20240418T145900Z
UID:3236-1724594400-1724608800@www.megcmusic.com
SUMMARY:Colorado Country Music Hall of Fame Awards Show
DESCRIPTION:This year I’m nominated for Female Vocalist of the Year.  Come out and see lots of great performers! \n10217 Quivas St\, Thornton\, CO 80260
URL:https://www.megcmusic.com/event/colorado-country-music-hall-of-fame-awards-show/
ATTACH;FMTTYPE=image/jpeg:https://www.megcmusic.com/wp-content/uploads/2024/04/377869583_848599140227534_8874078356640840041_n.jpg
END:VEVENT
END:VCALENDAR